BEGIN:VCALENDAR
VERSION:2.0
PRODID:-//hacksw/handcal//NONSGML v1.0//EN
CALSCALE:GREGORIAN
BEGIN:VTIMEZONE
TZID:Europe/Berlin
X-LIC-LOCATION:Europe/Berlin
BEGIN:DAYLIGHT
TZOFFSETFROM:+0100
TZOFFSETTO:+0200
TZNAME:CEST
DTSTART:19700329T020000
RRULE:FREQ=YEARLY;BYDAY=-1SU;BYMONTH=3
END:DAYLIGHT
BEGIN:STANDARD
TZOFFSETFROM:+0200
TZOFFSETTO:+0100
TZNAME:CET
DTSTART:19701025T030000
RRULE:FREQ=YEARLY;BYDAY=-1SU;BYMONTH=10
END:STANDARD
END:VTIMEZONE
BEGIN:VEVENT
DTEND;TZID=Europe/Berlin:20260710T150000
UID:69e55ac2be417
DTSTAMP:20260420T004418
LOCATION:Friedrich-Ebert-Grundschule - Bleichstraße 9\, 61137 Schöneck - Kilianstädten
DESCRIPTION:Dieses Jahr hebt ihr mit uns ab zu einer spannenden Reise ins unendliche Weltall. Stell dir vor\, du bist ein mutiger Astronaut auf einer Mission zu fernen Planeten. Über dir funkeln unzählige Sterne\, riesige Galaxien ziehen vorbei und die Erde wird immer kleiner\, je weiter du ins All fliegst. Um dich herum hörst du das leise Summen des Raumschiffs und entdeckst geheimnisvolle Himmelskörper.\r\n\r\nDas Weltall steckt voller faszinierender Überraschungen! Du triffst auf neue Planeten\, lernst Sonne\, Mond und Sterne genauer kennen und erfährst\, wie Astronauten im All leben. Doch aufgepasst: Im Weltraum gelten andere Regeln als auf der Erde - Schwerelosigkeit\, unbekannte Wesen und\r\nspannende Herausforderungen warten auf dich.\r\n\r\nUnd wer weiß? Vielleicht entdeckst du sogar einen geheimen Weltraum-Schatz oder ein neues\, bisher unbekanntes Planetensystem! Mach dich bereit für ein galaktisches Abenteuer - das Weltall wartet auf dich!
URL;VALUE=URI:https://www.unser-ferienprogramm.de/schoeneck/veranstaltung.php?id=306188
SUMMARY:2. Woche Sommerferienspiele
DTSTART;TZID=Europe/Berlin:20260706T090000
END:VEVENT

END:VCALENDAR
