BEGIN:VCALENDAR
VERSION:2.0
PRODID:-//hacksw/handcal//NONSGML v1.0//EN
CALSCALE:GREGORIAN
BEGIN:VTIMEZONE
TZID:Europe/Berlin
X-LIC-LOCATION:Europe/Berlin
BEGIN:DAYLIGHT
TZOFFSETFROM:+0100
TZOFFSETTO:+0200
TZNAME:CEST
DTSTART:19700329T020000
RRULE:FREQ=YEARLY;BYDAY=-1SU;BYMONTH=3
END:DAYLIGHT
BEGIN:STANDARD
TZOFFSETFROM:+0200
TZOFFSETTO:+0100
TZNAME:CET
DTSTART:19701025T030000
RRULE:FREQ=YEARLY;BYDAY=-1SU;BYMONTH=10
END:STANDARD
END:VTIMEZONE
BEGIN:VEVENT
DTEND;TZID=Europe/Berlin:20261205T170000
UID:69e5572503d81
DTSTAMP:20260420T002853
LOCATION:Bürgertreff Schöneck - Kilianstädten
DESCRIPTION:Weihnachten ist für die Wichtel das schönste Fest\, denn jedes Jahr am Heiligabend stellen ihnen die Menschen eine Schale mit leckerem Weihnachtsbrei hin. Damit wollen die Menschen sich bei den Wichteln bedanken für alles\, was sie im Laufe des Jahres für sie getan haben. Aber diesmal werden die Menschen den Brei vergessen\, das kann die Wichtelmutter voraussehen. Also schmiedet sie einen Plan...\r\nEine zauberhafte Weihnachtsgeschichte vom „Pettersson-und-Findus“-Erfinder Sven Nordqvist!\r\n
URL;VALUE=URI:https://www.unser-ferienprogramm.de/schoeneck/veranstaltung.php?id=305788
SUMMARY:Kindertheater - "Das Geheimnis der Weihnachtswichtel" Theater KuckKucksheim
DTSTART;TZID=Europe/Berlin:20261205T160000
END:VEVENT

END:VCALENDAR
