BEGIN:VCALENDAR
VERSION:2.0
PRODID:-//hacksw/handcal//NONSGML v1.0//EN
CALSCALE:GREGORIAN
BEGIN:VTIMEZONE
TZID:Europe/Berlin
X-LIC-LOCATION:Europe/Berlin
BEGIN:DAYLIGHT
TZOFFSETFROM:+0100
TZOFFSETTO:+0200
TZNAME:CEST
DTSTART:19700329T020000
RRULE:FREQ=YEARLY;BYDAY=-1SU;BYMONTH=3
END:DAYLIGHT
BEGIN:STANDARD
TZOFFSETFROM:+0200
TZOFFSETTO:+0100
TZNAME:CET
DTSTART:19701025T030000
RRULE:FREQ=YEARLY;BYDAY=-1SU;BYMONTH=10
END:STANDARD
END:VTIMEZONE
BEGIN:VEVENT
DTEND;TZID=Europe/Berlin:20261108T170000
UID:69e569e8a0920
DTSTAMP:20260420T014856
LOCATION:Bürgertreff Kilianstädten
DESCRIPTION:Wer auf der Suche nach einem lustigen und zauberhaften Erlebnis für sich selbst und seine \r\nFamilie ist\, muss die brandneue Familien - Zaubershow „Affentheater“ des bekannten Zauberkünstlers Tim Salabim besuchen! Die Besucher erwartet eine lustige und freche \r\nShow\, bei der die kleinen Gäste nicht nur zuschauen\, sondern aktiv auf der Bühne mitzaubern dürfen. Auch für Erwachsene gibt es viel zu lachen und zu staunen.
URL;VALUE=URI:https://www.unser-ferienprogramm.de/schoeneck/veranstaltung.php?id=305786
SUMMARY:Kindertheater - "Affentheater" Tim Salabim
DTSTART;TZID=Europe/Berlin:20261108T160000
END:VEVENT

END:VCALENDAR
