BEGIN:VCALENDAR
VERSION:2.0
PRODID:-//hacksw/handcal//NONSGML v1.0//EN
CALSCALE:GREGORIAN
BEGIN:VTIMEZONE
TZID:Europe/Berlin
X-LIC-LOCATION:Europe/Berlin
BEGIN:DAYLIGHT
TZOFFSETFROM:+0100
TZOFFSETTO:+0200
TZNAME:CEST
DTSTART:19700329T020000
RRULE:FREQ=YEARLY;BYDAY=-1SU;BYMONTH=3
END:DAYLIGHT
BEGIN:STANDARD
TZOFFSETFROM:+0200
TZOFFSETTO:+0100
TZNAME:CET
DTSTART:19701025T030000
RRULE:FREQ=YEARLY;BYDAY=-1SU;BYMONTH=10
END:STANDARD
END:VTIMEZONE
BEGIN:VEVENT
DTEND;TZID=Europe/Berlin:20260419T170000
UID:69e55702320d4
DTSTAMP:20260420T002818
LOCATION:Dorfgemeinschaftshaus Schöneck - Oberdorfelden
DESCRIPTION:Superwurm\, der Superheld\, ist der tollste Wurm der Welt! Im Reich der Insekten\, zwischen Gräsern\, hinter Hecken und auf Blütenblättern spielt diese fabelhafte Geschichte. Hier lebt auch ein \r\nganz besonderer Wurm\, denn dieser Wurm ist einfach super! Als Spielkamerad für kleine \r\nKrabbler ist er bei Regenwetter und Sonnenschein immer da. Er ist ein Freund in Not\, dann taucht er auf und ist zur Stelle. Doch auch das Leben von Superwürmern ist\, wie man ahnt\, nicht ohne Gefahren und hängt am seidenen Faden. Ob viele kleine Freunde gegen großen Echsenzauber und rabenschwarze Tricks etwas ausrichten können? Wenn ja\, dann singt auch Morgen noch der Krötenchor allen das tolle Superwurm-Lied vor. Wenn nicht\, dann droht bald Gras über Superuwurms Heldentaten zu wachsen. Doch so weit wird es hoffentlich nicht kommen ...\r\n\r\nDie Inszenierung erhielt den Publikumspreis beim Wiesbadener Figurentheaterfestival im \r\nJahr 2016.
URL;VALUE=URI:https://www.unser-ferienprogramm.de/schoeneck/veranstaltung.php?id=305782
SUMMARY:Kindertheater - "Superwurm" Dornerei
DTSTART;TZID=Europe/Berlin:20260419T160000
END:VEVENT

END:VCALENDAR
