BEGIN:VCALENDAR
VERSION:2.0
PRODID:-//hacksw/handcal//NONSGML v1.0//EN
CALSCALE:GREGORIAN
BEGIN:VTIMEZONE
TZID:Europe/Berlin
X-LIC-LOCATION:Europe/Berlin
BEGIN:DAYLIGHT
TZOFFSETFROM:+0100
TZOFFSETTO:+0200
TZNAME:CEST
DTSTART:19700329T020000
RRULE:FREQ=YEARLY;BYDAY=-1SU;BYMONTH=3
END:DAYLIGHT
BEGIN:STANDARD
TZOFFSETFROM:+0200
TZOFFSETTO:+0100
TZNAME:CET
DTSTART:19701025T030000
RRULE:FREQ=YEARLY;BYDAY=-1SU;BYMONTH=10
END:STANDARD
END:VTIMEZONE
BEGIN:VEVENT
DTEND;TZID=Europe/Berlin:20261009T153000
UID:69e569d86d6f4
DTSTAMP:20260420T014840
LOCATION:Wildpark Alte Fasanerie - Fasaneriestraße 106\, 63456 Hanau
DESCRIPTION:Packt eure Neugier ein und begleitet uns zu einem spannenden Ausflug in die Alte Fasanerie\, wo wilde Tiere uund die Natur direkt zum Greifen nah sind! Hier könnt ihr durch weitläufige Wälder streifen und Rehe\, Wildschweine\, Hirsche sowie andere Tierarten hautnah erleben. Lasst uns zusammen entdecken\, wie sie in ihrem natürlichen Raum leben. Taucht ein in die faszinierende Welt der Tiere - entdeckt wie sie leben\, was sie fressen und welche überraschenden Eigenschaften sie besitzen.\r\n\r\nDer Wildpark Alte Fasanerie bietet nicht nur tierische Begegnung\, sondern auch eine ruhige und wunderschöne Umgebung. Sei dabei\, wenn wir uns in die spannende Welt der Wildtiere begeben!
URL;VALUE=URI:https://www.unser-ferienprogramm.de/schoeneck/veranstaltung.php?id=305773
SUMMARY:Wildpark Alte Fasanerie
DTSTART;TZID=Europe/Berlin:20261009T083000
END:VEVENT

END:VCALENDAR
