BEGIN:VCALENDAR
VERSION:2.0
PRODID:-//hacksw/handcal//NONSGML v1.0//EN
CALSCALE:GREGORIAN
BEGIN:VTIMEZONE
TZID:Europe/Berlin
X-LIC-LOCATION:Europe/Berlin
BEGIN:DAYLIGHT
TZOFFSETFROM:+0100
TZOFFSETTO:+0200
TZNAME:CEST
DTSTART:19700329T020000
RRULE:FREQ=YEARLY;BYDAY=-1SU;BYMONTH=3
END:DAYLIGHT
BEGIN:STANDARD
TZOFFSETFROM:+0200
TZOFFSETTO:+0100
TZNAME:CET
DTSTART:19701025T030000
RRULE:FREQ=YEARLY;BYDAY=-1SU;BYMONTH=10
END:STANDARD
END:VTIMEZONE
BEGIN:VEVENT
DTEND;TZID=Europe/Berlin:20261008T163000
UID:69e569c720816
DTSTAMP:20260420T014823
LOCATION:Eissporthalle Am Bornheimer Hang 4\, 60386 Frankfurt 
DESCRIPTION:Stellt euch vor\, ihr gleitet über das Eis und hört das fröhliche Lachen um euch herum - genau so wird der Nachmittag in der Eissporthalle Frankfurt! Es ist egal ob ihr schon sicher auf den Schlittschuhen steht oder zum ersten Mal das Eis erkundet\, denn jeder ist willkommen Runden auf dem Eis zu drehen. \r\n\r\nIn den Pausen wartet eine kleine Stärkung auf euch: Von leckeren Pommes\, über Crêpes bis hin zu Kinderpunsch. Nach dem Essen könnt ihr gestärkt auf das Eis zurückkehren und bei Musik und guter Stimmung das glitzernde Eis entlangdüsen.
URL;VALUE=URI:https://www.unser-ferienprogramm.de/schoeneck/veranstaltung.php?id=305767
SUMMARY:Eissporthalle
DTSTART;TZID=Europe/Berlin:20261008T103000
END:VEVENT

END:VCALENDAR
