BEGIN:VCALENDAR
VERSION:2.0
PRODID:-//hacksw/handcal//NONSGML v1.0//EN
CALSCALE:GREGORIAN
BEGIN:VTIMEZONE
TZID:Europe/Berlin
X-LIC-LOCATION:Europe/Berlin
BEGIN:DAYLIGHT
TZOFFSETFROM:+0100
TZOFFSETTO:+0200
TZNAME:CEST
DTSTART:19700329T020000
RRULE:FREQ=YEARLY;BYDAY=-1SU;BYMONTH=3
END:DAYLIGHT
BEGIN:STANDARD
TZOFFSETFROM:+0200
TZOFFSETTO:+0100
TZNAME:CET
DTSTART:19701025T030000
RRULE:FREQ=YEARLY;BYDAY=-1SU;BYMONTH=10
END:STANDARD
END:VTIMEZONE
BEGIN:VEVENT
DTEND;TZID=Europe/Berlin:20261007T150000
UID:69e556eef116f
DTSTAMP:20260420T002758
LOCATION:Jugendzentrum Wiesenau 13\, 61137 Schöneck-Büdesheim
DESCRIPTION:Werde zum Künstler! Tauche ein in die bunte Welt des Malens und gestalte dein ganz persönliches Porzellan oder Glas. Unter Anleitung kannst du Tassen\, Teller oder Gläser nach Herzenslust verschönern - mal verspielt\, mal frech\, mal leuchtend farbenfroh. Alles was du dazu brauchst\, stellen wir bereit und nach dem Härten im Backofen werden deine Kunstwerke dauerhaft haltbar und kratzfest.\r\n\r\nNach dem kreativen Teil des Tages spielen wir noch gemeinsam Spiele und lassen den Mittag gemütlich ausklingen. Im Anschluss kannst du deine Kunstwerke mit nach Hause nehmen.
URL;VALUE=URI:https://www.unser-ferienprogramm.de/schoeneck/veranstaltung.php?id=305763
SUMMARY:Porzellan und Glas bemalen
DTSTART;TZID=Europe/Berlin:20261007T110000
END:VEVENT

END:VCALENDAR
