BEGIN:VCALENDAR
VERSION:2.0
PRODID:-//hacksw/handcal//NONSGML v1.0//EN
CALSCALE:GREGORIAN
BEGIN:VTIMEZONE
TZID:Europe/Berlin
X-LIC-LOCATION:Europe/Berlin
BEGIN:DAYLIGHT
TZOFFSETFROM:+0100
TZOFFSETTO:+0200
TZNAME:CEST
DTSTART:19700329T020000
RRULE:FREQ=YEARLY;BYDAY=-1SU;BYMONTH=3
END:DAYLIGHT
BEGIN:STANDARD
TZOFFSETFROM:+0200
TZOFFSETTO:+0100
TZNAME:CET
DTSTART:19701025T030000
RRULE:FREQ=YEARLY;BYDAY=-1SU;BYMONTH=10
END:STANDARD
END:VTIMEZONE
BEGIN:VEVENT
DTEND;TZID=Europe/Berlin:20261006T140000
UID:69e55ac2129d2
DTSTAMP:20260420T004418
LOCATION:Dynochrom Boulderhalle Frankfurt - Flinschstraße 45 60388 Frankfurt 
DESCRIPTION:Bist du bereit für Action? Dann komm mit ins Dynochrom Frankfurt und entdecke die spannende Welt des Boulderns. Hier kannst du an bunten Kletterstrecken hoch hinaus\, neue Griffe ausprobieren und deine eigenen Grenzen austesten. Ganz egal\, ob du gerade erst anfängst oder schon Erfahrung hast - hier warten aufregende Herausforderungen und eine Portion Nervenkitzel auf dich. \r\n\r\nIm Dynochrom geht es nicht nur ums Klettern\, sondern auch ums Ausprobieren\, Teamwork und kleine Wettkämpe mit Freundinnen und Freunden. \r\nSchnapp dir bequeme Sportkleidung\, bringe freudige Energie mit und erlebe einen Tag voller Kletterspaß!
URL;VALUE=URI:https://www.unser-ferienprogramm.de/schoeneck/veranstaltung.php?id=305755
SUMMARY:Dynochrom Boulderhalle
DTSTART;TZID=Europe/Berlin:20261006T083000
END:VEVENT

END:VCALENDAR
