BEGIN:VCALENDAR
VERSION:2.0
PRODID:-//hacksw/handcal//NONSGML v1.0//EN
CALSCALE:GREGORIAN
BEGIN:VTIMEZONE
TZID:Europe/Berlin
X-LIC-LOCATION:Europe/Berlin
BEGIN:DAYLIGHT
TZOFFSETFROM:+0100
TZOFFSETTO:+0200
TZNAME:CEST
DTSTART:19700329T020000
RRULE:FREQ=YEARLY;BYDAY=-1SU;BYMONTH=3
END:DAYLIGHT
BEGIN:STANDARD
TZOFFSETFROM:+0200
TZOFFSETTO:+0100
TZNAME:CET
DTSTART:19701025T030000
RRULE:FREQ=YEARLY;BYDAY=-1SU;BYMONTH=10
END:STANDARD
END:VTIMEZONE
BEGIN:VEVENT
DTEND;TZID=Europe/Berlin:20260807T000000
UID:69e569b62fc7e
DTSTAMP:20260420T014806
LOCATION:Nidderhalle Oberdorfelden
DESCRIPTION:In den Sommerferien hast Du die Möglichkeit an der Samurai-Ausbildung teilzunehmen! Hier wird dir die Gelegenheit geboten Schwertkampf und Bogenschießen kennenzulernen. Du übst Dich auch in Selbstverteidigung und eignest dir Grundzüge der Kalligraphie und der Meditation an. Außerdem erfährst Du spannendes über die asiatische Kultur und Geschichte und lernst die asiatische Sprache kennen.\r\n\r\nDurchgeführt wird das Angebot von Jens Schimmel - Sportlehrer und 4. Dan Schwarzgurt in Schwertkampf.
URL;VALUE=URI:https://www.unser-ferienprogramm.de/schoeneck/veranstaltung.php?id=305685
SUMMARY:Samurai-Ausbildung
DTSTART;TZID=Europe/Berlin:20260805T000000
END:VEVENT

END:VCALENDAR
