BEGIN:VCALENDAR
VERSION:2.0
PRODID:-//hacksw/handcal//NONSGML v1.0//EN
CALSCALE:GREGORIAN
BEGIN:VTIMEZONE
TZID:Europe/Berlin
X-LIC-LOCATION:Europe/Berlin
BEGIN:DAYLIGHT
TZOFFSETFROM:+0100
TZOFFSETTO:+0200
TZNAME:CEST
DTSTART:19700329T020000
RRULE:FREQ=YEARLY;BYDAY=-1SU;BYMONTH=3
END:DAYLIGHT
BEGIN:STANDARD
TZOFFSETFROM:+0200
TZOFFSETTO:+0100
TZNAME:CET
DTSTART:19701025T030000
RRULE:FREQ=YEARLY;BYDAY=-1SU;BYMONTH=10
END:STANDARD
END:VTIMEZONE
BEGIN:VEVENT
DTEND;TZID=Europe/Berlin:20260708T130000
UID:69e556854632f
DTSTAMP:20260420T002613
LOCATION:Tennisclub Schöneck e.V. Am Kühwald 2 61137 Schöneck - Kilianstädten
DESCRIPTION:Hoch über Kilianstädten laden die Plätze des Tennisclubs Schöneck-Kilianstädten Kinder und Jugendliche ein\, Tennis in einer lockeren und spaßigen Atmosphäre kennenzulernen. In kleinen Gruppen können Anfänger erste Schläge ausprobieren oder Fortgeschrittene ihre Technik verbessern.\r\n\r\nDie "Tennis-Schnupperwoche" wird für 8 - 18 Jährige angeboten. Begleitet und betreut wird das Angebot von Trainern und Übungsleitern des Tennisclubs Schöneck. In der Teilnahmegebühr ist das Ausleihen der Tennisschläger und -Bälle\, sowie die Betreuung durch Trainer und Übungsleiter enthalten. 
URL;VALUE=URI:https://www.unser-ferienprogramm.de/schoeneck/veranstaltung.php?id=305682
SUMMARY:Vereinsprojekt Tenniscamp
DTSTART;TZID=Europe/Berlin:20260706T100000
END:VEVENT

END:VCALENDAR
