BEGIN:VCALENDAR
VERSION:2.0
PRODID:-//hacksw/handcal//NONSGML v1.0//EN
CALSCALE:GREGORIAN
BEGIN:VTIMEZONE
TZID:Europe/Berlin
X-LIC-LOCATION:Europe/Berlin
BEGIN:DAYLIGHT
TZOFFSETFROM:+0100
TZOFFSETTO:+0200
TZNAME:CEST
DTSTART:19700329T020000
RRULE:FREQ=YEARLY;BYDAY=-1SU;BYMONTH=3
END:DAYLIGHT
BEGIN:STANDARD
TZOFFSETFROM:+0200
TZOFFSETTO:+0100
TZNAME:CET
DTSTART:19701025T030000
RRULE:FREQ=YEARLY;BYDAY=-1SU;BYMONTH=10
END:STANDARD
END:VTIMEZONE
BEGIN:VEVENT
DTEND;TZID=Europe/Berlin:20261005T150000
UID:69e556ffca8d1
DTSTAMP:20260420T002815
LOCATION:Jugendzentrum Wiesenau 13\, 61137 Schöneck-Büdesheim
DESCRIPTION:Der Herbst ist da und bringt bunte Blätter\, kühle Luft und jede Menge Spaß mit sich. Heute wird es besonders herbstlich\, denn wir schnitzen unsere eigenen Kürbisse! Mit viel Fantasie und ein bisschen Geschick verwandeln wir die Kürbisse in leuchtende Kunstwerk. \r\n\r\nWusstest du\, dass man nicht nur Grimassen in Kürbisse schnitzen kann\, sondern auch lustige Monster\, Tiere oder coole Muster? Du hast die Möglichkeit\, deinen Kürbis in etwas ganz Besonderes zu verwandeln. Für die kleine Stärkung zwischendurch gibt es leckere\, bunte Waffeln und warmen Kakao. Sei dabei und erlebe einen tollen Herbsttag.
URL;VALUE=URI:https://www.unser-ferienprogramm.de/schoeneck/veranstaltung.php?id=305676
SUMMARY:Kürbis schnitzen und Waffeln
DTSTART;TZID=Europe/Berlin:20261005T110000
END:VEVENT

END:VCALENDAR
