BEGIN:VCALENDAR
VERSION:2.0
PRODID:-//hacksw/handcal//NONSGML v1.0//EN
CALSCALE:GREGORIAN
BEGIN:VTIMEZONE
TZID:Europe/Berlin
X-LIC-LOCATION:Europe/Berlin
BEGIN:DAYLIGHT
TZOFFSETFROM:+0100
TZOFFSETTO:+0200
TZNAME:CEST
DTSTART:19700329T020000
RRULE:FREQ=YEARLY;BYDAY=-1SU;BYMONTH=3
END:DAYLIGHT
BEGIN:STANDARD
TZOFFSETFROM:+0200
TZOFFSETTO:+0100
TZNAME:CET
DTSTART:19701025T030000
RRULE:FREQ=YEARLY;BYDAY=-1SU;BYMONTH=10
END:STANDARD
END:VTIMEZONE
BEGIN:VEVENT
DTEND;TZID=Europe/Berlin:20260717T150000
UID:69e5697a6f2ef
DTSTAMP:20260420T014706
LOCATION:Lochmühle 1\, 61273 Wehrheim
DESCRIPTION:Ab geht es in den Freizeitpark Lochmühle! Hier warten jede Menge coole Attraktionen auf dich: Das Kettenkarussel\, spaßige Rutschen und die Eichhörnchen-Bahn\, die dir den ganzen Tag über Adrenalin und gute Laune bringen!\r\n\r\nTobe dich im Kletterparcours aus\, teste deine Geschicklichkeit beim Minigolf oder nimm die Herausforderung im Wasserspielbereich an. Egal\, ob du es ruhig angehen lässt oder den Nervenkitzel suchst - im Erlebnispark Lochmühle ist für jeden etwas dabei!  Natürlich darf ein leckeres Eis oder eine süße Waffel zwischendurch auch nicht fehlen!\r\n\r\nKomm mit in den Erlebnispark Lochmühle und genieße einen Tag voller Spaß und spannender Abenteuer.\r\n
URL;VALUE=URI:https://www.unser-ferienprogramm.de/schoeneck/veranstaltung.php?id=302989
SUMMARY:Freizeitpark Lochmühle
DTSTART;TZID=Europe/Berlin:20260717T090000
END:VEVENT

END:VCALENDAR
