BEGIN:VCALENDAR
VERSION:2.0
PRODID:-//hacksw/handcal//NONSGML v1.0//EN
CALSCALE:GREGORIAN
BEGIN:VTIMEZONE
TZID:Europe/Berlin
X-LIC-LOCATION:Europe/Berlin
BEGIN:DAYLIGHT
TZOFFSETFROM:+0100
TZOFFSETTO:+0200
TZNAME:CEST
DTSTART:19700329T020000
RRULE:FREQ=YEARLY;BYDAY=-1SU;BYMONTH=3
END:DAYLIGHT
BEGIN:STANDARD
TZOFFSETFROM:+0200
TZOFFSETTO:+0100
TZNAME:CET
DTSTART:19701025T030000
RRULE:FREQ=YEARLY;BYDAY=-1SU;BYMONTH=10
END:STANDARD
END:VTIMEZONE
BEGIN:VEVENT
DTEND;TZID=Europe/Berlin:20260716T153000
UID:69e5568ca36b6
DTSTAMP:20260420T002620
LOCATION:Schaumainkai 41\, 60596 Frankfurt am Main
DESCRIPTION:Action\, Kamera\, Los! \r\nDoch wie entsteht eigentlich ein Film? Genau das finden wir bei unserem Besuch im Deutschen Filmmuseum heraus. Wir erfahren wie Filme früher gemacht wurden und wie alles mit der Fotografie angefangen hat. Alte Kameras\, flackernde Bilder und überraschende Effekte zeigen uns wie aus vielen Einzelbildern eine Geschichte entsteht. Außerdem bekommen wir einen Einblick wie Filme heute geschnitten werden und wie Musik und Sounds für Spannung Action oder Gefühle sorgen.\r\n\r\nNach der Führung wird es richtig kreativ. In einem Workshop werden wir selbst zu Filmemacherinnen und Filmemachern. Gemeinsam drehen wir einen eigenen kleinen Animationsfilm und erleben wie Figuren plötzlich lebendig werden. Sei dabei und werde selbst zum Star vor oder hinter der Kamera!\r\n
URL;VALUE=URI:https://www.unser-ferienprogramm.de/schoeneck/veranstaltung.php?id=302985
SUMMARY:Deutsches Filmmuseum
DTSTART;TZID=Europe/Berlin:20260716T093000
END:VEVENT

END:VCALENDAR
