BEGIN:VCALENDAR
VERSION:2.0
PRODID:-//hacksw/handcal//NONSGML v1.0//EN
CALSCALE:GREGORIAN
BEGIN:VTIMEZONE
TZID:Europe/Berlin
X-LIC-LOCATION:Europe/Berlin
BEGIN:DAYLIGHT
TZOFFSETFROM:+0100
TZOFFSETTO:+0200
TZNAME:CEST
DTSTART:19700329T020000
RRULE:FREQ=YEARLY;BYDAY=-1SU;BYMONTH=3
END:DAYLIGHT
BEGIN:STANDARD
TZOFFSETFROM:+0200
TZOFFSETTO:+0100
TZNAME:CET
DTSTART:19701025T030000
RRULE:FREQ=YEARLY;BYDAY=-1SU;BYMONTH=10
END:STANDARD
END:VTIMEZONE
BEGIN:VEVENT
DTEND;TZID=Europe/Berlin:20260715T150000
UID:69e556df4d71b
DTSTAMP:20260420T002743
LOCATION:Wiesenau 13\, 61137 Schöneck-Büdesheim
DESCRIPTION:In unserer Kreativ-Werkstatt steht deine Fantasie im Mittelpunkt. Mit Farben und verschiedenen Materialien hast du die Möglichkeit\, dich künstlerisch auszudrücken und eigene Ideen umzusetzen. Malen\, Gestalten oder Ausprobieren - hier kannst du kreativ werden und deiner Vorstellungskraft freien Lauf lassen. \r\n\r\nIn der Kreativwerkstatt haben wir die Möglichkeit\, Leinwände kreativ zu gestalten und unterschiedliche Techniken wie die Schwamm- und Fingermethoden kennenzulernen. In einer entspannten Atmosphäre kannst du mit Farben arbeiten und eigene Ideen umsetzen. Schritt für Schritt entstehen dabei kleine Kunstwerke die genauso einzigartig sind wie du selbst.
URL;VALUE=URI:https://www.unser-ferienprogramm.de/schoeneck/veranstaltung.php?id=302977
SUMMARY:Kreativ-Werkstatt
DTSTART;TZID=Europe/Berlin:20260715T110000
END:VEVENT

END:VCALENDAR
