BEGIN:VCALENDAR
VERSION:2.0
PRODID:-//hacksw/handcal//NONSGML v1.0//EN
CALSCALE:GREGORIAN
BEGIN:VTIMEZONE
TZID:Europe/Berlin
X-LIC-LOCATION:Europe/Berlin
BEGIN:DAYLIGHT
TZOFFSETFROM:+0100
TZOFFSETTO:+0200
TZNAME:CEST
DTSTART:19700329T020000
RRULE:FREQ=YEARLY;BYDAY=-1SU;BYMONTH=3
END:DAYLIGHT
BEGIN:STANDARD
TZOFFSETFROM:+0200
TZOFFSETTO:+0100
TZNAME:CET
DTSTART:19701025T030000
RRULE:FREQ=YEARLY;BYDAY=-1SU;BYMONTH=10
END:STANDARD
END:VTIMEZONE
BEGIN:VEVENT
DTEND;TZID=Europe/Berlin:20260714T153000
UID:69e5568c20782
DTSTAMP:20260420T002620
LOCATION: Lahnparkstraße\, 35452 Heuchelheim
DESCRIPTION:Letztes Jahr war’s schon der Hammer\, also machen wir auch dieses Jahr wieder: Einen Ausflug ins „Wasserski & Wakeboardzentrum Heuchelheim“! Hast du schon mal versucht\, auf Wasserski zu stehen\, oder bist du eher der Kneeboard-Typ? Egal\, was du wählst\, nach einer kurzen Einweisung von den Profis vor Ort kannst du loslegen!\r\nUnd nach all der Action gibt’s zur Stärkung leckere gegrillte Würstchen - auch vegetarisch oder vegan\, falls du das bevorzugst. Während du dich stärkst\, kannst du den Profis bei ihren atemberaubenden Stunts zuschauen und dich inspirieren lassen.\r\n\r\nBereit für die Herausforderung? Dann pack deine Sachen und los geht’s - Wasserski und jede Menge Spaß warten auf dich!\r\n
URL;VALUE=URI:https://www.unser-ferienprogramm.de/schoeneck/veranstaltung.php?id=302974
SUMMARY:Wasserski
DTSTART;TZID=Europe/Berlin:20260714T084500
END:VEVENT

END:VCALENDAR
