BEGIN:VCALENDAR
VERSION:2.0
PRODID:-//hacksw/handcal//NONSGML v1.0//EN
CALSCALE:GREGORIAN
BEGIN:VTIMEZONE
TZID:Europe/Berlin
X-LIC-LOCATION:Europe/Berlin
BEGIN:DAYLIGHT
TZOFFSETFROM:+0100
TZOFFSETTO:+0200
TZNAME:CEST
DTSTART:19700329T020000
RRULE:FREQ=YEARLY;BYDAY=-1SU;BYMONTH=3
END:DAYLIGHT
BEGIN:STANDARD
TZOFFSETFROM:+0200
TZOFFSETTO:+0100
TZNAME:CET
DTSTART:19701025T030000
RRULE:FREQ=YEARLY;BYDAY=-1SU;BYMONTH=10
END:STANDARD
END:VTIMEZONE
BEGIN:VEVENT
DTEND;TZID=Europe/Berlin:20260713T160000
UID:69e56982c37e2
DTSTAMP:20260420T014714
LOCATION: See Freigericht W 2\, 63538 Großkrotzenburg
DESCRIPTION:Das Strandbad „Spessartblick“ in Großkrotzenburg lädt mit seinem weitläufigen See und großzügigen Liegewiesen zum Entspannen und Chillen ein. Ein wunderschöner Sandstrand sowie zwei Badeinseln mitten im Wasser sorgen für echtes Urlaubsfeeling.\r\n\r\nDas absolute Highlight des Tages: Stand-Up-Paddling! Hier kannst du dich aufs Board wagen und erste Erfahrungen sammeln. Mit etwas Gleichgewicht und Mut gleitest du über das Wasser - schaffst du es\, das Board sicher über den See zu steuern?\r\n
URL;VALUE=URI:https://www.unser-ferienprogramm.de/schoeneck/veranstaltung.php?id=302972
SUMMARY:See & Stand Up
DTSTART;TZID=Europe/Berlin:20260713T103000
END:VEVENT

END:VCALENDAR
