BEGIN:VCALENDAR
VERSION:2.0
PRODID:-//hacksw/handcal//NONSGML v1.0//EN
CALSCALE:GREGORIAN
BEGIN:VTIMEZONE
TZID:Europe/Berlin
X-LIC-LOCATION:Europe/Berlin
BEGIN:DAYLIGHT
TZOFFSETFROM:+0100
TZOFFSETTO:+0200
TZNAME:CEST
DTSTART:19700329T020000
RRULE:FREQ=YEARLY;BYDAY=-1SU;BYMONTH=3
END:DAYLIGHT
BEGIN:STANDARD
TZOFFSETFROM:+0200
TZOFFSETTO:+0100
TZNAME:CET
DTSTART:19701025T030000
RRULE:FREQ=YEARLY;BYDAY=-1SU;BYMONTH=10
END:STANDARD
END:VTIMEZONE
BEGIN:VEVENT
DTEND;TZID=Europe/Berlin:20250804T150000
UID:69e61023cf1e1
DTSTAMP:20260420T133811
LOCATION:Ortsverein Schmidgaden
DESCRIPTION:Mit dem Großraumtaxi werden die Kinder zum Parkplatz bei der Minigolfanlage gebracht. Von dort aus startet die gemeinsame Wanderung um den Steinberger See\; Dauer ungefähr 90 Minuten.\r\nNach halber Strecke rasten wir und  verzehren die mitgebrachte Brotzeit.\r\nPünktlich um 11.00 Uhr kommen alle Wanderer beim Adventure-Golfplatz wieder an. Nun heißt es golfen wie die Profis vor der tollen Kulisse des Steinberger Sees.\r\nDie 18 Bahnen und Spielhindernisse sind aufwendig mit verschiedenen Bauwerken und Wasseranlagen gestaltet. Der Platz steht für zwei Stunden der Feriengruppe zur Verfügung.\r\nAb 13.00 Uhr sind im Bistro &Cafe des Wild Wake Parks Plätze reserviert. Da gibt es für alle Burger und ein Getränk (im Preis enthalten).\r\nNach der gemütlichen Einkehr und Beobachtung der Wake Border geht es zurück nach Schmidgaden\, so dass die Eltern um etwa 15.00 Uhr ihre Kinder bei der Mittelschule wieder in Empfang nehmen können.\r\n\r\n\r\n\r\n\r\n
URL;VALUE=URI:https://www.unser-ferienprogramm.de/schmidgaden/veranstaltung.php?id=283974
SUMMARY:Stonehill Adventure Golf - Wandern und Minigolfen am Steinberger See
DTSTART;TZID=Europe/Berlin:20250804T090000
END:VEVENT

END:VCALENDAR
