BEGIN:VCALENDAR
VERSION:2.0
PRODID:-//hacksw/handcal//NONSGML v1.0//EN
CALSCALE:GREGORIAN
BEGIN:VTIMEZONE
TZID:Europe/Berlin
X-LIC-LOCATION:Europe/Berlin
BEGIN:DAYLIGHT
TZOFFSETFROM:+0100
TZOFFSETTO:+0200
TZNAME:CEST
DTSTART:19700329T020000
RRULE:FREQ=YEARLY;BYDAY=-1SU;BYMONTH=3
END:DAYLIGHT
BEGIN:STANDARD
TZOFFSETFROM:+0200
TZOFFSETTO:+0100
TZNAME:CET
DTSTART:19701025T030000
RRULE:FREQ=YEARLY;BYDAY=-1SU;BYMONTH=10
END:STANDARD
END:VTIMEZONE
BEGIN:VEVENT
DTEND;TZID=Europe/Berlin:20250806T170000
UID:69e5fd51c9c0c
DTSTAMP:20260420T121753
LOCATION:Mittelschule Schmidgaden 
DESCRIPTION:Du hast Lust endlich mal wieder oder überhaupt die Krabbelgruppe zu besuchen? \r\nDann bist du bei uns genau richtig.  Wir wollen gemeinsam spielen\,  \r\nSpaß haben und auch das Basteln darf nicht zu kurz kommen. \r\nAlle 4 und 5 Jährigen sind dazu herzlich eingeladen.\r\n\r\nWir freuen uns auf euch.\r\n\r\nBei Fragen\, gerne melden!\r\n
URL;VALUE=URI:https://www.unser-ferienprogramm.de/schmidgaden/veranstaltung.php?id=277988
SUMMARY:Spiel\, Spaß und Bastelei in der Eltern-Kind Gruppe
DTSTART;TZID=Europe/Berlin:20250806T143000
END:VEVENT

END:VCALENDAR
