BEGIN:VCALENDAR
VERSION:2.0
PRODID:-//hacksw/handcal//NONSGML v1.0//EN
CALSCALE:GREGORIAN
BEGIN:VTIMEZONE
TZID:Europe/Berlin
X-LIC-LOCATION:Europe/Berlin
BEGIN:DAYLIGHT
TZOFFSETFROM:+0100
TZOFFSETTO:+0200
TZNAME:CEST
DTSTART:19700329T020000
RRULE:FREQ=YEARLY;BYDAY=-1SU;BYMONTH=3
END:DAYLIGHT
BEGIN:STANDARD
TZOFFSETFROM:+0200
TZOFFSETTO:+0100
TZNAME:CET
DTSTART:19701025T030000
RRULE:FREQ=YEARLY;BYDAY=-1SU;BYMONTH=10
END:STANDARD
END:VTIMEZONE
BEGIN:VEVENT
DTEND;TZID=Europe/Berlin:20250812T120000
UID:69e6105999795
DTSTAMP:20260420T133905
LOCATION:Sportplatz der Mittelschule Schmidgaden
DESCRIPTION:Du bewegst dich gerne und hast Spaß am Sport?\r\nDann versuche es mit dem Sportabzeichen! Laufen\, Springen\, Werfen (und Schwimmen) bringen Punkte für das Deutsche Sportabzeichen in Gold\, Silber oder Bronze.\r\n\r\nHinweis: Der Nachweis der Schwimmfertigkeit kann in jedem Freibad beim Schwimmmeister abgelegt werden.\r\nEr gilt dann bis zum 17. Lebensjahr.
URL;VALUE=URI:https://www.unser-ferienprogramm.de/schmidgaden/veranstaltung.php?id=272295
SUMMARY:Sportabzeichen-Tag des 1. FC Schmidgaden e.V.
DTSTART;TZID=Europe/Berlin:20250812T090000
END:VEVENT

END:VCALENDAR
