BEGIN:VCALENDAR
VERSION:2.0
PRODID:-//hacksw/handcal//NONSGML v1.0//EN
CALSCALE:GREGORIAN
BEGIN:VTIMEZONE
TZID:Europe/Berlin
X-LIC-LOCATION:Europe/Berlin
BEGIN:DAYLIGHT
TZOFFSETFROM:+0100
TZOFFSETTO:+0200
TZNAME:CEST
DTSTART:19700329T020000
RRULE:FREQ=YEARLY;BYDAY=-1SU;BYMONTH=3
END:DAYLIGHT
BEGIN:STANDARD
TZOFFSETFROM:+0200
TZOFFSETTO:+0100
TZNAME:CET
DTSTART:19701025T030000
RRULE:FREQ=YEARLY;BYDAY=-1SU;BYMONTH=10
END:STANDARD
END:VTIMEZONE
BEGIN:VEVENT
DTEND;TZID=Europe/Berlin:20250819T130000
UID:69e6150e7ad5e
DTSTAMP:20260420T135910
LOCATION:Scharlmühle 
DESCRIPTION:Verbringe eine tolle Zeit mit unseren Ponys. \r\nWir putzen zusammen die Ponys und machen uns dann auf\, zu einem Spaziergang in die Natur\, zurück gibt es eine kleine Stärkung (bei schönem Wetter am Lagerfeuer). Wir haben auch ein paar kleine Überraschungen geplant. \r\nWir freuen uns auf Euch! 
URL;VALUE=URI:https://www.unser-ferienprogramm.de/schmidgaden/veranstaltung.php?id=272235
SUMMARY:Zeit am Ponyhof 
DTSTART;TZID=Europe/Berlin:20250819T100000
END:VEVENT

END:VCALENDAR
