BEGIN:VCALENDAR
VERSION:2.0
PRODID:-//hacksw/handcal//NONSGML v1.0//EN
CALSCALE:GREGORIAN
BEGIN:VTIMEZONE
TZID:Europe/Berlin
X-LIC-LOCATION:Europe/Berlin
BEGIN:DAYLIGHT
TZOFFSETFROM:+0100
TZOFFSETTO:+0200
TZNAME:CEST
DTSTART:19700329T020000
RRULE:FREQ=YEARLY;BYDAY=-1SU;BYMONTH=3
END:DAYLIGHT
BEGIN:STANDARD
TZOFFSETFROM:+0200
TZOFFSETTO:+0100
TZNAME:CET
DTSTART:19701025T030000
RRULE:FREQ=YEARLY;BYDAY=-1SU;BYMONTH=10
END:STANDARD
END:VTIMEZONE
BEGIN:VEVENT
DTEND;TZID=Europe/Berlin:20250811T180000
UID:69e6151fce1b4
DTSTAMP:20260420T135927
LOCATION:Schützenheim Trisching
DESCRIPTION:Schnupperschießen mit Lichtgewehr / Blasrohr ab 8 Jahren\r\nZum schießen mit dem Luftgewehr ab 12 Jahren\, muss eine Einverständniserklärung der Eltern beigefügt werden! \r\nLuftballon schießen mit dem Blasrohr möglich
URL;VALUE=URI:https://www.unser-ferienprogramm.de/schmidgaden/veranstaltung.php?id=268446
SUMMARY:Schnupperschießen 
DTSTART;TZID=Europe/Berlin:20250811T150000
END:VEVENT

END:VCALENDAR
