BEGIN:VCALENDAR
VERSION:2.0
PRODID:-//hacksw/handcal//NONSGML v1.0//EN
CALSCALE:GREGORIAN
BEGIN:VTIMEZONE
TZID:Europe/Berlin
X-LIC-LOCATION:Europe/Berlin
BEGIN:DAYLIGHT
TZOFFSETFROM:+0100
TZOFFSETTO:+0200
TZNAME:CEST
DTSTART:19700329T020000
RRULE:FREQ=YEARLY;BYDAY=-1SU;BYMONTH=3
END:DAYLIGHT
BEGIN:STANDARD
TZOFFSETFROM:+0200
TZOFFSETTO:+0100
TZNAME:CET
DTSTART:19701025T030000
RRULE:FREQ=YEARLY;BYDAY=-1SU;BYMONTH=10
END:STANDARD
END:VTIMEZONE
BEGIN:VEVENT
DTEND;TZID=Europe/Berlin:20250901T130000
UID:69e6105985732
DTSTAMP:20260420T133905
LOCATION:Pfarrheim Schmidgaden-Trisching 
DESCRIPTION:Führung im Märchenwald mit anschließendem Picknick in der Natur. \r\nDie geführte Wanderung auf dem rund zwei Kilometer langen Rundkurs dauert etwa 2 Stunden. \r\nUnser Märchenführer erzählt von verwunschenen Prinzen\, guten und bösen Waldgeistern\, zauberhaften Tierwesen und erlösten Seelen. \r\nBitte Picknickdecke und eigenes Picknick mitbringen.\r\nEs wird empfohlen an Sonnenschutz (Sonnenmilch\, Kopfbedeckung) und an Zeckenschutz (lange Hose\, Zeckenspray) zu denken!\r\n\r\nBezahlung vor Ort!
URL;VALUE=URI:https://www.unser-ferienprogramm.de/schmidgaden/veranstaltung.php?id=268016
SUMMARY:Märchenwald & Picknick 
DTSTART;TZID=Europe/Berlin:20250901T100000
END:VEVENT

END:VCALENDAR
