BEGIN:VCALENDAR
VERSION:2.0
PRODID:-//hacksw/handcal//NONSGML v1.0//EN
CALSCALE:GREGORIAN
BEGIN:VTIMEZONE
TZID:Europe/Berlin
X-LIC-LOCATION:Europe/Berlin
BEGIN:DAYLIGHT
TZOFFSETFROM:+0100
TZOFFSETTO:+0200
TZNAME:CEST
DTSTART:19700329T020000
RRULE:FREQ=YEARLY;BYDAY=-1SU;BYMONTH=3
END:DAYLIGHT
BEGIN:STANDARD
TZOFFSETFROM:+0200
TZOFFSETTO:+0100
TZNAME:CET
DTSTART:19701025T030000
RRULE:FREQ=YEARLY;BYDAY=-1SU;BYMONTH=10
END:STANDARD
END:VTIMEZONE
BEGIN:VEVENT
DTEND;TZID=Europe/Berlin:20250802T090000
UID:69e6002bee651
DTSTAMP:20260420T123003
LOCATION:Pfarrheim Schmidgaden 
DESCRIPTION:Leseratten aufgepasst! Das Bücherei-Team möchte mit euch eine Schnitzeljagd durch Schmidgaden machen und mit euch zusammen leckere Pizzen belegen. Später wollen wir uns gemütlich am Lagerfeuer zusammensetzen. Im Anschluss dürft ihr im Pfarrheim Brett- und Kartenspiele spielen oder Lesen\, bis die Augen zufallen. Den Abschluss bildet am anderen Morgen ein köstliches Frühstück\, bevor ihr von euren Eltern abgeholt werdet. \r\n\r\nVerpflegung: wird gestellt (Abendessen\, Frühstück und Getränke) 
URL;VALUE=URI:https://www.unser-ferienprogramm.de/schmidgaden/veranstaltung.php?id=173792
SUMMARY:Lesenacht mit Übernachtung – Büchereiteam
DTSTART;TZID=Europe/Berlin:20250801T180000
END:VEVENT

END:VCALENDAR
