BEGIN:VCALENDAR
VERSION:2.0
PRODID:-//hacksw/handcal//NONSGML v1.0//EN
CALSCALE:GREGORIAN
BEGIN:VTIMEZONE
TZID:Europe/Berlin
X-LIC-LOCATION:Europe/Berlin
BEGIN:DAYLIGHT
TZOFFSETFROM:+0100
TZOFFSETTO:+0200
TZNAME:CEST
DTSTART:19700329T020000
RRULE:FREQ=YEARLY;BYDAY=-1SU;BYMONTH=3
END:DAYLIGHT
BEGIN:STANDARD
TZOFFSETFROM:+0200
TZOFFSETTO:+0100
TZNAME:CET
DTSTART:19701025T030000
RRULE:FREQ=YEARLY;BYDAY=-1SU;BYMONTH=10
END:STANDARD
END:VTIMEZONE
BEGIN:VEVENT
DTEND;TZID=Europe/Berlin:20250822T200000
UID:69e610598c7ca
DTSTAMP:20260420T133905
LOCATION:Schützenheim Schmidgaden
DESCRIPTION:Heute hast du die Gelegenheit\, mit deinen Freunden*innen zusammen an verschiedenen Übungen / kl. Wettkämpfen in den Sportarten Schießen mit Lichtgewehr/Lichtpistole\, Blasrohr\, Luftgewehr/Luftpistole an einem Mini-Biathlon mit Klappscheiben teilzunehmen.\r\nEs warten tolle Preise auf dich!\r\nAnfänger sind genauso willkommen wie Fortgeschrittene!\r\nTrau dich\, du kannst nur gewinnen!\r\nWir zeigen dir wie´s geht!
URL;VALUE=URI:https://www.unser-ferienprogramm.de/schmidgaden/veranstaltung.php?id=170850
SUMMARY:Ziel im Visier mit dem Schützenverein Schmidgaden 
DTSTART;TZID=Europe/Berlin:20250822T170000
END:VEVENT

END:VCALENDAR
