BEGIN:VCALENDAR
VERSION:2.0
PRODID:-//hacksw/handcal//NONSGML v1.0//EN
CALSCALE:GREGORIAN
BEGIN:VTIMEZONE
TZID:Europe/Berlin
X-LIC-LOCATION:Europe/Berlin
BEGIN:DAYLIGHT
TZOFFSETFROM:+0100
TZOFFSETTO:+0200
TZNAME:CEST
DTSTART:19700329T020000
RRULE:FREQ=YEARLY;BYDAY=-1SU;BYMONTH=3
END:DAYLIGHT
BEGIN:STANDARD
TZOFFSETFROM:+0200
TZOFFSETTO:+0100
TZNAME:CET
DTSTART:19701025T030000
RRULE:FREQ=YEARLY;BYDAY=-1SU;BYMONTH=10
END:STANDARD
END:VTIMEZONE
BEGIN:VEVENT
DTEND;TZID=Europe/Berlin:20250912T180000
UID:69e5fd56b1c28
DTSTAMP:20260420T121758
LOCATION:Sportheim des 1.FC Schmidgaden e.V.
DESCRIPTION:Schafkopf für Anfänger/innen\, Fortgeschrittene & Freunde/innen des traditionellen Kartenspiels
URL;VALUE=URI:https://www.unser-ferienprogramm.de/schmidgaden/veranstaltung.php?id=168681
SUMMARY:Kulturgut & Brauchtum - Schafkopf
DTSTART;TZID=Europe/Berlin:20250912T160000
END:VEVENT

END:VCALENDAR
