BEGIN:VCALENDAR
VERSION:2.0
PRODID:-//hacksw/handcal//NONSGML v1.0//EN
CALSCALE:GREGORIAN
BEGIN:VTIMEZONE
TZID:Europe/Berlin
X-LIC-LOCATION:Europe/Berlin
BEGIN:DAYLIGHT
TZOFFSETFROM:+0100
TZOFFSETTO:+0200
TZNAME:CEST
DTSTART:19700329T020000
RRULE:FREQ=YEARLY;BYDAY=-1SU;BYMONTH=3
END:DAYLIGHT
BEGIN:STANDARD
TZOFFSETFROM:+0200
TZOFFSETTO:+0100
TZNAME:CET
DTSTART:19701025T030000
RRULE:FREQ=YEARLY;BYDAY=-1SU;BYMONTH=10
END:STANDARD
END:VTIMEZONE
BEGIN:VEVENT
DTEND;TZID=Europe/Berlin:20260909T000000
UID:69e5e29b55a23
DTSTAMP:20260420T102355
LOCATION:
DESCRIPTION:Bist du bereit für ein spannendes Abenteuer mit einer coolen Gruppe an deiner Seite? Drei Tage der Natur ganz nah. Kein Handy\, keine Eltern und keine Bequemlichkeit!\r\nIn der Ferienaktion Jugend vs. Wild wollen wir drei Tage in der Wildnis verbringen. Dabei verzichten wir auf den Luxus einer Wohnung\, einer Hütte oder eines Zeltes und bauen uns selber unsere Übernachtungsunterkunft. Auch öffentliche Sanitäranlagen haben wir nicht vor Ort\, sondern wir bauen gemeinsam eine Waldtoilette. Kochen werden wir nur über einem offenen Feuer. Gemeinsam lernen wir so die Natur in seiner Vielzahl an Facetten kennen und üben uns in Überlebenstechniken. Es erwartet dich eine gute Mischung aus Herausforderungen\, Gemeinschaft und Spaß!\r\n\r\nIm Preis sind alle Kosten\, auch Verpflegung\, enthalten.\r\n\r\nUm vorab bereits all eure Fragen klären zu können\, findet am 19. August 2026 um 19 Uhr (online) ein Informationsabend für euch und eure Eltern statt. Einladungslink wird im Vorfeld per E-Mail verschickt. \r\n\r\nBist du bereit\, Teil von Jugend vs. Wild zu sein? Dann melde dich jetzt an\, packe deinen dicken\, warmen Schlafsack ein und starte ins Abenteuer!\r\n
URL;VALUE=URI:https://www.unser-ferienprogramm.de/schierling/veranstaltung.php?id=243982
SUMMARY:Jugend vs. Wild - Das Abenteuer beginnt jetzt!
DTSTART;TZID=Europe/Berlin:20260907T000000
END:VEVENT

END:VCALENDAR
