BEGIN:VCALENDAR
VERSION:2.0
PRODID:-//hacksw/handcal//NONSGML v1.0//EN
CALSCALE:GREGORIAN
BEGIN:VTIMEZONE
TZID:Europe/Berlin
X-LIC-LOCATION:Europe/Berlin
BEGIN:DAYLIGHT
TZOFFSETFROM:+0100
TZOFFSETTO:+0200
TZNAME:CEST
DTSTART:19700329T020000
RRULE:FREQ=YEARLY;BYDAY=-1SU;BYMONTH=3
END:DAYLIGHT
BEGIN:STANDARD
TZOFFSETFROM:+0200
TZOFFSETTO:+0100
TZNAME:CET
DTSTART:19701025T030000
RRULE:FREQ=YEARLY;BYDAY=-1SU;BYMONTH=10
END:STANDARD
END:VTIMEZONE
BEGIN:VEVENT
DTEND;TZID=Europe/Berlin:20261103T180000
UID:69e5fa4c8d20f
DTSTAMP:20260420T120500
LOCATION:JUZ Schierling\, Untere Austrasse 14
DESCRIPTION:In der Therme Erding bleibt kein Auge trocken. Grenzenloser Spaß und jede Menge Action erwarten dich: Es gibt 27 Rutschen und ein Wellenbad\, umgeben von über 300 echten Palmen. Wir starten mit dem Kleinbus gemeinsam vom JUZ in Schierling.\r\n
URL;VALUE=URI:https://www.unser-ferienprogramm.de/schierling/veranstaltung.php?id=243184
SUMMARY:Ausflug in die Therme Erding
DTSTART;TZID=Europe/Berlin:20261103T100000
END:VEVENT

END:VCALENDAR
