BEGIN:VCALENDAR
VERSION:2.0
PRODID:-//hacksw/handcal//NONSGML v1.0//EN
CALSCALE:GREGORIAN
BEGIN:VTIMEZONE
TZID:Europe/Berlin
X-LIC-LOCATION:Europe/Berlin
BEGIN:DAYLIGHT
TZOFFSETFROM:+0100
TZOFFSETTO:+0200
TZNAME:CEST
DTSTART:19700329T020000
RRULE:FREQ=YEARLY;BYDAY=-1SU;BYMONTH=3
END:DAYLIGHT
BEGIN:STANDARD
TZOFFSETFROM:+0200
TZOFFSETTO:+0100
TZNAME:CET
DTSTART:19701025T030000
RRULE:FREQ=YEARLY;BYDAY=-1SU;BYMONTH=10
END:STANDARD
END:VTIMEZONE
BEGIN:VEVENT
DTEND;TZID=Europe/Berlin:20260812T120000
UID:69e5fa4ba4d60
DTSTAMP:20260420T120459
LOCATION:JUZ Schierling\, Untere Austraße 14
DESCRIPTION:Wir erkunden die Natur rund um das Schierlinger JUZ ganz spielerisch. Die Wiese\, das Wasser und die Bäume werden Thema sein. Freut auch auf viele Spiele und auf einen schönen Vormittag draußen.
URL;VALUE=URI:https://www.unser-ferienprogramm.de/schierling/veranstaltung.php?id=243091
SUMMARY:Naturerlebnistag in Schierling
DTSTART;TZID=Europe/Berlin:20260812T090000
END:VEVENT

END:VCALENDAR
