BEGIN:VCALENDAR
VERSION:2.0
PRODID:-//hacksw/handcal//NONSGML v1.0//EN
CALSCALE:GREGORIAN
BEGIN:VTIMEZONE
TZID:Europe/Berlin
X-LIC-LOCATION:Europe/Berlin
BEGIN:DAYLIGHT
TZOFFSETFROM:+0100
TZOFFSETTO:+0200
TZNAME:CEST
DTSTART:19700329T020000
RRULE:FREQ=YEARLY;BYDAY=-1SU;BYMONTH=3
END:DAYLIGHT
BEGIN:STANDARD
TZOFFSETFROM:+0200
TZOFFSETTO:+0100
TZNAME:CET
DTSTART:19701025T030000
RRULE:FREQ=YEARLY;BYDAY=-1SU;BYMONTH=10
END:STANDARD
END:VTIMEZONE
BEGIN:VEVENT
DTEND;TZID=Europe/Berlin:20260819T150000
UID:69e5e295c9950
DTSTAMP:20260420T102349
LOCATION:Walderlebniszentrum Sinzing
DESCRIPTION:Nach einem kurzen Kennenlernen starten wir mit dem Tor zu Wildnis in das Abenteuer. Anschließend wollen wir gemeinsam die heimischen Tiere und Pflanzen im Wald entdecken. Es erwarten euch dabei viele lustige Spiele und spannende Stationen. 
URL;VALUE=URI:https://www.unser-ferienprogramm.de/schierling/veranstaltung.php?id=243090
SUMMARY:Walderlebnistag in Sinzing
DTSTART;TZID=Europe/Berlin:20260819T090000
END:VEVENT

END:VCALENDAR
