BEGIN:VCALENDAR
VERSION:2.0
PRODID:-//hacksw/handcal//NONSGML v1.0//EN
CALSCALE:GREGORIAN
BEGIN:VTIMEZONE
TZID:Europe/Berlin
X-LIC-LOCATION:Europe/Berlin
BEGIN:DAYLIGHT
TZOFFSETFROM:+0100
TZOFFSETTO:+0200
TZNAME:CEST
DTSTART:19700329T020000
RRULE:FREQ=YEARLY;BYDAY=-1SU;BYMONTH=3
END:DAYLIGHT
BEGIN:STANDARD
TZOFFSETFROM:+0200
TZOFFSETTO:+0100
TZNAME:CET
DTSTART:19701025T030000
RRULE:FREQ=YEARLY;BYDAY=-1SU;BYMONTH=10
END:STANDARD
END:VTIMEZONE
BEGIN:VEVENT
DTEND;TZID=Europe/Berlin:20260807T140000
UID:69e5e2dd1dac6
DTSTAMP:20260420T102501
LOCATION:JUZ Schierling\, Untere Austrasse 14
DESCRIPTION:Spiel und Spaß stehen bei unserer Ferienspaßwoche im JUZ ganz oben.\r\nWir unternehmen Ausflüge\, toben uns aus und chillen im JUZ. Im Preis inbegriffen sind die Betreuung der Kinder\, das Frühstück\, Getränke sowie allerlei Aktionen.\r\nGeschwisterkinder zahlen 40 Euro.\r\nDie Aktion dauert täglich je von 8 bis 14 Uhr. Es können auch einzelne Tage gebucht werden.\r\n
URL;VALUE=URI:https://www.unser-ferienprogramm.de/schierling/veranstaltung.php?id=243089
SUMMARY:Ferienspaßwoche im JUZ mit Ausflügen
DTSTART;TZID=Europe/Berlin:20260803T080000
END:VEVENT

END:VCALENDAR
