BEGIN:VCALENDAR
VERSION:2.0
PRODID:-//hacksw/handcal//NONSGML v1.0//EN
CALSCALE:GREGORIAN
BEGIN:VTIMEZONE
TZID:Europe/Berlin
X-LIC-LOCATION:Europe/Berlin
BEGIN:DAYLIGHT
TZOFFSETFROM:+0100
TZOFFSETTO:+0200
TZNAME:CEST
DTSTART:19700329T020000
RRULE:FREQ=YEARLY;BYDAY=-1SU;BYMONTH=3
END:DAYLIGHT
BEGIN:STANDARD
TZOFFSETFROM:+0200
TZOFFSETTO:+0100
TZNAME:CET
DTSTART:19701025T030000
RRULE:FREQ=YEARLY;BYDAY=-1SU;BYMONTH=10
END:STANDARD
END:VTIMEZONE
BEGIN:VEVENT
DTEND;TZID=Europe/Berlin:20260331T153000
UID:69ebbcdaa3283
DTSTAMP:20260424T205626
LOCATION:Bürgerkino "Cinema" Salzgitter-Bad
DESCRIPTION:Das Jugendparlament lädt Jugendliche zwischen 12 und 20 Jahren ins Kino ein!\r\n\r\nWir finden\, dass Filme am Besten mit vielen anderen im Kino geguckt werden. Hier können sich Freundinnen und Freunde treffen und manchmal lernt man auch neue Leute kennen.\r\n\r\nAber nicht immer reicht das Geld für einen Kinobesuch. Also laden wir euch ein! Wir übernehmen für euch nicht nur den Eintritt\, sondern wer kommt\, kriegt auch ein Getränk und eine Portion Popcorn.\r\n\r\nWir werden uns im Cinema Bürgerkino in Salzgitter-Bad zusammen den Film "Interstellar" anschauen (FSK 12).\r\n\r\nNach dem Film können wir zusammen  darüber reden\, wie das beste Salzgitter der Zukunft aussehen soll.\r\n\r\nWer es am Vormittag nicht nach Salzgitter-Bad schafft\, kann auch um 17:00 Uhr ins Kultiplex in Salzgitter-Lebenstedt kommen.
URL;VALUE=URI:https://www.unser-ferienprogramm.de/salzgitter/veranstaltung.php?id=309480
SUMMARY:Kinotag des Jugendparlaments
DTSTART;TZID=Europe/Berlin:20260331T110000
END:VEVENT

END:VCALENDAR
