BEGIN:VCALENDAR
VERSION:2.0
PRODID:-//hacksw/handcal//NONSGML v1.0//EN
CALSCALE:GREGORIAN
BEGIN:VTIMEZONE
TZID:Europe/Berlin
X-LIC-LOCATION:Europe/Berlin
BEGIN:DAYLIGHT
TZOFFSETFROM:+0100
TZOFFSETTO:+0200
TZNAME:CEST
DTSTART:19700329T020000
RRULE:FREQ=YEARLY;BYDAY=-1SU;BYMONTH=3
END:DAYLIGHT
BEGIN:STANDARD
TZOFFSETFROM:+0200
TZOFFSETTO:+0100
TZNAME:CET
DTSTART:19701025T030000
RRULE:FREQ=YEARLY;BYDAY=-1SU;BYMONTH=10
END:STANDARD
END:VTIMEZONE
BEGIN:VEVENT
DTEND;TZID=Europe/Berlin:20260807T000000
UID:69eb9b1936392
DTSTAMP:20260424T183225
LOCATION:Neuwerk
DESCRIPTION:Die Anreise erfolgt weiterhin wie gewohnt mit dem Bus nach Cuxhaven und dann mit dem Schiff weiter auf die Insel Neuwerk\, wo pure Natur erlebt werden kann. Geboten werden auf der Insel zahlreiche Aktivitäten: vom Fußballspielen und Schwimmen bis zum Wattburgen bauen. Daneben gibt es eine Inselrallye\, eine Schatzkistensuche und viele andere Aktionen\, die für die Freizeiten vorbereitet werden.\r\n\r\nIm Preis enthalten sind sämtliche anfallenden Kosten des Transports\, der Schiffspassage\, Campnutzung\, Vollverpflegung inklusive Getränke\, die Rund-um-die-Uhr-Betreuung und Vieles mehr.\r\n\r\nDie Hin- und Rückreise zur Insel Neuwerk kann sich aufgrund der Witterungsverhältnisse und Gezeiten verschieben – in Einzelfällen sogar um einen Tag nach vorne oder hinten. Bitte berücksichtigen Sie dies bei Ihrer weiteren Ferienplanung mit ihren Kindern und bleiben Sie entsprechend flexibel.\r\n\r\nWattwagen kommen nur witterungsbedingt als Ausweichoption zum Einsatz.\r\n\r\nZU IHRER INFORMATION\r\nDer ausgewiesene Betrag i.H.v. 250 € wird nach Beendigung der Freizeit abgebucht.
URL;VALUE=URI:https://www.unser-ferienprogramm.de/salzgitter/veranstaltung.php?id=302163
SUMMARY:Neuwerk II 2026
DTSTART;TZID=Europe/Berlin:20260729T000000
END:VEVENT

END:VCALENDAR
