BEGIN:VCALENDAR
VERSION:2.0
PRODID:-//hacksw/handcal//NONSGML v1.0//EN
CALSCALE:GREGORIAN
BEGIN:VTIMEZONE
TZID:Europe/Berlin
X-LIC-LOCATION:Europe/Berlin
BEGIN:DAYLIGHT
TZOFFSETFROM:+0100
TZOFFSETTO:+0200
TZNAME:CEST
DTSTART:19700329T020000
RRULE:FREQ=YEARLY;BYDAY=-1SU;BYMONTH=3
END:DAYLIGHT
BEGIN:STANDARD
TZOFFSETFROM:+0200
TZOFFSETTO:+0100
TZNAME:CET
DTSTART:19701025T030000
RRULE:FREQ=YEARLY;BYDAY=-1SU;BYMONTH=10
END:STANDARD
END:VTIMEZONE
BEGIN:VEVENT
DTEND;TZID=Europe/Berlin:20261016T160000
UID:69eb9b1b5a4d7
DTSTAMP:20260424T183227
LOCATION:KJT - Graffit\, Swindonstraße 75\, 38226 Salzgitter
DESCRIPTION:Dieses Ferienangebot richtet sich an alle Kinder\, die Lust auf unterschiedliche Kreativ-\, Bewegungs-\, Spiel- und Abenteuerangebote haben. Zudem ist geplant\, sich bei geeignetem Wetter auch draußen aufzuhalten.\r\n\r\nDie Ferienbetreuung findet täglich von 08:00 Uhr bis 16:00 Uhr statt.\r\n\r\nIn der Teilnahmegebühr sind neben der pädagogischen Betreuung\, Getränke und ein kleiner Snack inkludiert.\r\n\r\nEin Mittagsessen wird nicht gestellt. Bitte geben Sie ihrem Kind / ihren Kindern eine ausreichend befüllte Lunchbox mit!
URL;VALUE=URI:https://www.unser-ferienprogramm.de/salzgitter/veranstaltung.php?id=300027
SUMMARY:Stürmisch starke Herbstferien! 2026 - KJT Graffiti
DTSTART;TZID=Europe/Berlin:20261012T080000
END:VEVENT

END:VCALENDAR
