BEGIN:VCALENDAR
VERSION:2.0
PRODID:-//hacksw/handcal//NONSGML v1.0//EN
CALSCALE:GREGORIAN
BEGIN:VTIMEZONE
TZID:Europe/Berlin
X-LIC-LOCATION:Europe/Berlin
BEGIN:DAYLIGHT
TZOFFSETFROM:+0100
TZOFFSETTO:+0200
TZNAME:CEST
DTSTART:19700329T020000
RRULE:FREQ=YEARLY;BYDAY=-1SU;BYMONTH=3
END:DAYLIGHT
BEGIN:STANDARD
TZOFFSETFROM:+0200
TZOFFSETTO:+0100
TZNAME:CET
DTSTART:19701025T030000
RRULE:FREQ=YEARLY;BYDAY=-1SU;BYMONTH=10
END:STANDARD
END:VTIMEZONE
BEGIN:VEVENT
DTEND;TZID=Europe/Berlin:20260724T150000
UID:69eb9b1a8a109
DTSTAMP:20260424T183226
LOCATION:KJT Graffiti\, Swindonstraße 75\, 38226 Salzgitter
DESCRIPTION:Angebote aus dem Zirkusbereich\, Akrobatik\, Zauberkunst\, Clownerie\, etc.\r\n\r\nKinder aus Salzgitter können aktiv am Zirkusleben teilnehmen und verschiedene Nummern wie zum Beispiel Akrobatik\, Bodenturnen\, Hula-Hoop oder Jonglieren einüben.\r\nDie Artisten des Circus Fun motivieren die Kinder zum Mitmachen und machen Zirkus erlebbar.\r\n\r\nVon Montag bis Freitag können „Mitmachkinder“ ihre Zirkusnummern unter Anleitung der Artisten des Circus Fun trainieren. Während der Mittagspause werden die „Mitmachkinder“ im Kinder- und Jugendtreff Graffiti mit Getränken und kleinen Snacks verpflegt.\r\n\r\nAm Freitagnachmittag präsentieren die jungen Künstler*innen in einer Galavorstellung im großen Viermast-Zelt\, die im Laufe der Woche einstudierten Attraktionen gemeinsam mit den Artisten. Alle Eltern\, Verwandte und Freunde der kleinen Artist*innen erhalten die Gelegenheit\, ihre Liebsten hier im Rampenlicht einer richtigen Zirkusvorstellung zu bestaunen und zu feiern.\r\n\r\nIm Teilnehmerbeitrag sind tägliche Snacks und Getränke (Wasser) inklusive.\r\n\r\nZU IHRER INFORMATION\r\nDer ausgewiesene Betrag i.H.v. 60\,00 € wird nach Beendigung der Freizeit abgebucht.
URL;VALUE=URI:https://www.unser-ferienprogramm.de/salzgitter/veranstaltung.php?id=299953
SUMMARY:Mitmachzirkus "Circus Fun" 2026
DTSTART;TZID=Europe/Berlin:20260720T080000
END:VEVENT

END:VCALENDAR
