BEGIN:VCALENDAR
VERSION:2.0
PRODID:-//hacksw/handcal//NONSGML v1.0//EN
CALSCALE:GREGORIAN
BEGIN:VTIMEZONE
TZID:Europe/Berlin
X-LIC-LOCATION:Europe/Berlin
BEGIN:DAYLIGHT
TZOFFSETFROM:+0100
TZOFFSETTO:+0200
TZNAME:CEST
DTSTART:19700329T020000
RRULE:FREQ=YEARLY;BYDAY=-1SU;BYMONTH=3
END:DAYLIGHT
BEGIN:STANDARD
TZOFFSETFROM:+0200
TZOFFSETTO:+0100
TZNAME:CET
DTSTART:19701025T030000
RRULE:FREQ=YEARLY;BYDAY=-1SU;BYMONTH=10
END:STANDARD
END:VTIMEZONE
BEGIN:VEVENT
DTEND;TZID=Europe/Berlin:20260717T150000
UID:69eb9b34f270a
DTSTAMP:20260424T183252
LOCATION:KJT Graffiti\, Swindonstraße 75\, 38226 Salzgitter
DESCRIPTION:Auch in diesem Jahr findet wieder die große Ferienaktion aller Kinder- und Jugendtreffs statt.\r\n\r\nBei diesen Ferien-Erlebnis-Tagen-Salzgitter (FETSZ) wird eine Vielzahl von Spielen\, Spaß und Aktionen geboten. Neben zahlreichen Spiel-\, Bastel-\, Medien- und Kreativangeboten können die Teilnehmenden sich auch bei Ballspielen und Sportangeboten auspowern.\r\n\r\nEin großes Event für viele Kinder in Salzgitter.\r\n\r\nZU IHRER INFORMATION\r\nDer ausgewiesene Betrag i.H.v. 20\,00 € wird nach Beendigung der Freizeit abgebucht.
URL;VALUE=URI:https://www.unser-ferienprogramm.de/salzgitter/veranstaltung.php?id=299946
SUMMARY:Ferienerlebnistage 2026 (FETSZ) II
DTSTART;TZID=Europe/Berlin:20260713T080000
END:VEVENT

END:VCALENDAR
