BEGIN:VCALENDAR
VERSION:2.0
PRODID:-//hacksw/handcal//NONSGML v1.0//EN
CALSCALE:GREGORIAN
BEGIN:VTIMEZONE
TZID:Europe/Berlin
X-LIC-LOCATION:Europe/Berlin
BEGIN:DAYLIGHT
TZOFFSETFROM:+0100
TZOFFSETTO:+0200
TZNAME:CEST
DTSTART:19700329T020000
RRULE:FREQ=YEARLY;BYDAY=-1SU;BYMONTH=3
END:DAYLIGHT
BEGIN:STANDARD
TZOFFSETFROM:+0200
TZOFFSETTO:+0100
TZNAME:CET
DTSTART:19701025T030000
RRULE:FREQ=YEARLY;BYDAY=-1SU;BYMONTH=10
END:STANDARD
END:VTIMEZONE
BEGIN:VEVENT
DTEND;TZID=Europe/Berlin:20260712T000000
UID:69eb9b3dc92cc
DTSTAMP:20260424T183301
LOCATION:Mecklenburg-Vorpommern
DESCRIPTION:NOCH IN PLANUNG\r\n\r\nSobald Haus und Team feststehen\, stellen wir die Einzelheiten online. (vermutlich Anfang Januar)\r\n\r\nAuch 2026 planen wir unter der Hauptleitung von Adrian Tödtmann eine Teeniefreizeit für 12-14jährige. Angedacht ist die 2. Woche der Sommerferien (ca. 5.-12.7.26) in Mecklenburg-Vorpommern.\r\n\r\nWenn Sie sich für diese Fahrt interessieren\, können Sie sich auch über ev-jugend.salzgitter@lk-bs.de bei Propsteijugenddiakonin Bettina Speer melden - dann bekommen Sie direkt Nachricht\, wenn alles feststeht.
URL;VALUE=URI:https://www.unser-ferienprogramm.de/salzgitter/veranstaltung.php?id=296120
SUMMARY:Teeniefreizeit
DTSTART;TZID=Europe/Berlin:20260705T000000
END:VEVENT

END:VCALENDAR
