BEGIN:VCALENDAR
VERSION:2.0
PRODID:-//hacksw/handcal//NONSGML v1.0//EN
CALSCALE:GREGORIAN
BEGIN:VTIMEZONE
TZID:Europe/Berlin
X-LIC-LOCATION:Europe/Berlin
BEGIN:DAYLIGHT
TZOFFSETFROM:+0100
TZOFFSETTO:+0200
TZNAME:CEST
DTSTART:19700329T020000
RRULE:FREQ=YEARLY;BYDAY=-1SU;BYMONTH=3
END:DAYLIGHT
BEGIN:STANDARD
TZOFFSETFROM:+0200
TZOFFSETTO:+0100
TZNAME:CET
DTSTART:19701025T030000
RRULE:FREQ=YEARLY;BYDAY=-1SU;BYMONTH=10
END:STANDARD
END:VTIMEZONE
BEGIN:VEVENT
DTEND;TZID=Europe/Berlin:20260712T000000
UID:69eb9b3d83a65
DTSTAMP:20260424T183301
LOCATION:Niederlande\, Wattenmeer und Ijsselmeer
DESCRIPTION:Wir werden gemeinsam mit über 40 Jugendlichen zusammen mit der Ev. Jugend Wolfenbüttel in die Niederlande aufbrechen und dort für acht Tage auf den Schiffen „Minerva“ und „Actief“ leben. Als Crew sind wir für das Segeln\, unsere Verpflegung und den Spaß selbst verantwortlich.\r\n\r\nBevor wir das erste Mal miteinander die Segel setzen\, werden wir eine Einführung in die Segel- und Knotenkunde von Skipper*in und Mat*in erhalten. Mit der fachkundigen Unterstützung steuern wir täglich\, je nach Wind- und Wetterlage\, einen neuen Hafen rund um das Ijssel- und Wattenmeer an. Vorkenntnisse sind nicht notwendig.\r\n\r\nNeben dem Segeln\, Einkaufen und Kochen bleibt natürlich noch viel Zeit zum Entspannen\, Spielen\, Kreativsein und um über Gott und die Welt ins Gespräch zu kommen. Je nach Wetterbedingungen können wir auch eine Nacht auf dem Meer verbringen oder uns im Wattenmeer trockenfallen lassen. Es warten viele unvergessliche Erlebnisse auf uns!\r\n\r\nMehr Infos und Fotos findest du in dem hier hinterlegten Infoflyer Segeln 2026.\r\n\r\nFamilien mit finanziellen Schwierigkeiten bitte unbedingt nach Ermäßigungen fragen!!! \r\nGgf. kann das Kind sogar kostenlos mitfahren!\r\nFamilien mit 3 oder mehr minderjährigen Kindern aus SZ können 200€ von der Stadt bekommen – egal wie viel sie verdienen!\r\n\r\n
URL;VALUE=URI:https://www.unser-ferienprogramm.de/salzgitter/veranstaltung.php?id=296119
SUMMARY:Segelfreizeit Niederlande
DTSTART;TZID=Europe/Berlin:20260705T000000
END:VEVENT

END:VCALENDAR
