BEGIN:VCALENDAR
VERSION:2.0
PRODID:-//hacksw/handcal//NONSGML v1.0//EN
CALSCALE:GREGORIAN
BEGIN:VTIMEZONE
TZID:Europe/Berlin
X-LIC-LOCATION:Europe/Berlin
BEGIN:DAYLIGHT
TZOFFSETFROM:+0100
TZOFFSETTO:+0200
TZNAME:CEST
DTSTART:19700329T020000
RRULE:FREQ=YEARLY;BYDAY=-1SU;BYMONTH=3
END:DAYLIGHT
BEGIN:STANDARD
TZOFFSETFROM:+0200
TZOFFSETTO:+0100
TZNAME:CET
DTSTART:19701025T030000
RRULE:FREQ=YEARLY;BYDAY=-1SU;BYMONTH=10
END:STANDARD
END:VTIMEZONE
BEGIN:VEVENT
DTEND;TZID=Europe/Berlin:20260808T000000
UID:69eb9b3edc482
DTSTAMP:20260424T183302
LOCATION:Wildemann
DESCRIPTION:Auf dem Jugendzeltplatz in Wildemann im Harz werden wir dieses Jahr mit Bastelworkshops\, Spieleketten\, Abendandachten und Geländespielen gemeinsam unter einem spannenden Motto eine erlebnisreiche Zeit verbringen.\r\n\r\nDer Zeltplatz liegt außerhalb des Ortes direkt am Waldrand in der Nähe eines kleinen Sees. Wir fahren von Salzgitter mit Reisebussen nach Wildemann und schlafen dort in großen Gemeinschaftszelten (ca. 6-8 Teilnehmende pro Zelt).\r\n\r\nIm Haus stehen uns Toiletten und Duschen\, eine Küche und zwei Aufenthaltsräume für eventuelle Regentage zur Verfügung.\r\n\r\nKinder aller Religionen sind herzlich willkommen.\r\n\r\nFamilien mit finanziellen Schwierigkeiten bitte unbedingt nach Ermäßigungen fragen!!! \r\nGgf. kann das Kind sogar kostenlos mitfahren!\r\nFamilien mit 3 oder mehr minderjährigen Kindern aus SZ können 200€ von der Stadt bekommen – egal wie viel sie verdienen!\r\n\r\n
URL;VALUE=URI:https://www.unser-ferienprogramm.de/salzgitter/veranstaltung.php?id=296118
SUMMARY:Zeltlager Wildemann
DTSTART;TZID=Europe/Berlin:20260802T000000
END:VEVENT

END:VCALENDAR
