BEGIN:VCALENDAR
VERSION:2.0
PRODID:-//hacksw/handcal//NONSGML v1.0//EN
CALSCALE:GREGORIAN
BEGIN:VTIMEZONE
TZID:Europe/Berlin
X-LIC-LOCATION:Europe/Berlin
BEGIN:DAYLIGHT
TZOFFSETFROM:+0100
TZOFFSETTO:+0200
TZNAME:CEST
DTSTART:19700329T020000
RRULE:FREQ=YEARLY;BYDAY=-1SU;BYMONTH=3
END:DAYLIGHT
BEGIN:STANDARD
TZOFFSETFROM:+0200
TZOFFSETTO:+0100
TZNAME:CET
DTSTART:19701025T030000
RRULE:FREQ=YEARLY;BYDAY=-1SU;BYMONTH=10
END:STANDARD
END:VTIMEZONE
BEGIN:VEVENT
DTEND;TZID=Europe/Berlin:20260718T000000
UID:69eb9b3406953
DTSTAMP:20260424T183252
LOCATION:Lüsche
DESCRIPTION:Wir laden euch in den nächsten Sommerferien in ein neues Haus ein: Das Gruppenhaus Lüsche liegt in der Südheide\, zwischen Hannover\, Lüneburg und Wolfsburg. Wir haben dort 14 Zimmer (2-5 Betten mit eigenem Waschbecken)\, mehrere Aufenthaltsräume und eine gut ausgestattete Selbstversorgerküche. Die Anlage hat einen eigenen kleinen Wald und eine große Wiese\, auf der es sich super spielen lässt. Auch ein Basketballfeld\, ein Volleyball- Feld und Tischtennisplatten und eine Lagerfeuerstelle stehen zur Verfügung. \r\nEuch\, erwarten euch viele tolle Spiel-Aktionen\, Kreativangebote\, Abendandachten und vieles mehr. Wir freuen uns schon auf euch! \r\nDas Team \r\no\tTermin: 13. Juli (14.00 Uhr) – 18. Juli 2026 (13.30 Uhr) \r\no\tLeitung: Christiane Busch und Team \r\no\tOrt: Gruppenhaus Lüsche www.gruppenhaus-luesche.de \r\no\tTeilnehmer*innen: 25 \r\no\tKosten: 330\,00 € \r\n\r\nFamilien mit finanziellen Schwierigkeiten bitte unbedingt nach \r\nErmäßigungen fragen!!! Ggf. kann das Kind sogar kostenlos mitfahren! \r\nFamilien mit 3 oder mehr minderjährigen Kindern können 200€ von der Stadt bekommen – egal wie viel sie verdienen! \r\n
URL;VALUE=URI:https://www.unser-ferienprogramm.de/salzgitter/veranstaltung.php?id=296117
SUMMARY:Kinderfreizeit in Lüsche
DTSTART;TZID=Europe/Berlin:20260713T000000
END:VEVENT

END:VCALENDAR
