BEGIN:VCALENDAR
VERSION:2.0
PRODID:-//hacksw/handcal//NONSGML v1.0//EN
CALSCALE:GREGORIAN
BEGIN:VTIMEZONE
TZID:Europe/Berlin
X-LIC-LOCATION:Europe/Berlin
BEGIN:DAYLIGHT
TZOFFSETFROM:+0100
TZOFFSETTO:+0200
TZNAME:CEST
DTSTART:19700329T020000
RRULE:FREQ=YEARLY;BYDAY=-1SU;BYMONTH=3
END:DAYLIGHT
BEGIN:STANDARD
TZOFFSETFROM:+0200
TZOFFSETTO:+0100
TZNAME:CET
DTSTART:19701025T030000
RRULE:FREQ=YEARLY;BYDAY=-1SU;BYMONTH=10
END:STANDARD
END:VTIMEZONE
BEGIN:VEVENT
DTEND;TZID=Europe/Berlin:20261016T000000
UID:69eb9b34785d2
DTSTAMP:20260424T183252
LOCATION:Am Sportpark 9\, 38239 Salzgitter
DESCRIPTION:Dieses Angebot richtet sich an alle Kinder\, welche Lust auf diverse Spiel-\, Spaß-\, Kreativ- und Bewegungsangebote haben.\r\n\r\nDie Ferienbetreuung findet täglich ab 08.00 Uhr bis 16.00 Uhr statt.\r\n\r\nIn der Teilnahmegebühr sind neben der pädagogischen Betreuung\, auch Getränke inkludiert.\r\n\r\n(Ein Mittagsessen wird nicht gestellt. Bitte geben Sie ihren Kindern eine ausreichend befüllte Lunchbox mit!)
URL;VALUE=URI:https://www.unser-ferienprogramm.de/salzgitter/veranstaltung.php?id=294846
SUMMARY:Kids Herbstferien im KJT Thiede 2026
DTSTART;TZID=Europe/Berlin:20261012T000000
END:VEVENT

END:VCALENDAR
