BEGIN:VCALENDAR
VERSION:2.0
PRODID:-//hacksw/handcal//NONSGML v1.0//EN
CALSCALE:GREGORIAN
BEGIN:VTIMEZONE
TZID:Europe/Berlin
X-LIC-LOCATION:Europe/Berlin
BEGIN:DAYLIGHT
TZOFFSETFROM:+0100
TZOFFSETTO:+0200
TZNAME:CEST
DTSTART:19700329T020000
RRULE:FREQ=YEARLY;BYDAY=-1SU;BYMONTH=3
END:DAYLIGHT
BEGIN:STANDARD
TZOFFSETFROM:+0200
TZOFFSETTO:+0100
TZNAME:CET
DTSTART:19701025T030000
RRULE:FREQ=YEARLY;BYDAY=-1SU;BYMONTH=10
END:STANDARD
END:VTIMEZONE
BEGIN:VEVENT
DTEND;TZID=Europe/Berlin:20250928T173000
UID:69ebd095a7cd0
DTSTAMP:20260424T222037
LOCATION:Braunschweig
DESCRIPTION:ACHTUNG FREIER TRÄGER!\r\nBitte über die Anmeldung auf www.evj-salzgitter.de anmelden!!!!\r\n\r\n\r\nWie funktioniert eigentlich ein Radiosender? Wer\r\nentscheidet\, welche Musik gespielt wird?\r\nDas wollen wir zusammen beim Radiotag am \r\nSonntag\, den 28.09.2025\, bei Radio Okerwelle in\r\nBraunschweig herausfinden!\r\n\r\nWir schauen uns das Studio an und produzieren\r\neine eigene Sendung. Das Besondere: Unsere\r\nRadiosendung wird später wirklich ausgestrahlt –\r\nund kann dann zusammen mit Familie und Freunden\r\nangehört werden!\r\nWir freuen uns auf eure Anmeldungen!  \t\r\n~ Basti und Team\r\n\r\no\tAlter: ab 8 Jahre (höchstens 15 Personen)\r\no\tKosten: 5€ passend in bar ODER eigenes Zugticket (Spenden sind natürlich auch willkommen)\r\no\tTermin: 28.09.2025\r\no\tTreffen zur Abfahrt: 10:10 Uhr (Bahnhof SZ-Bad)\r\nAbfahrt aus Lebenstedt kann auf Wunsch organisiert werden ► bitte bei Bastian Brömer melden\r\no\tAnkunft: (vermutlich) 17:20 Uhr\r\no\tLeitung: Bastian Brömer und Team\r\n(spontane Anliegen am Tag des Ausflugs bitte direkt mit Bastian Brömer klären → 0151 53235339)\r\n
URL;VALUE=URI:https://www.unser-ferienprogramm.de/salzgitter/veranstaltung.php?id=291293
SUMMARY:Radiotag
DTSTART;TZID=Europe/Berlin:20250928T101000
END:VEVENT

END:VCALENDAR
