BEGIN:VCALENDAR
VERSION:2.0
PRODID:-//hacksw/handcal//NONSGML v1.0//EN
CALSCALE:GREGORIAN
BEGIN:VTIMEZONE
TZID:Europe/Berlin
X-LIC-LOCATION:Europe/Berlin
BEGIN:DAYLIGHT
TZOFFSETFROM:+0100
TZOFFSETTO:+0200
TZNAME:CEST
DTSTART:19700329T020000
RRULE:FREQ=YEARLY;BYDAY=-1SU;BYMONTH=3
END:DAYLIGHT
BEGIN:STANDARD
TZOFFSETFROM:+0200
TZOFFSETTO:+0100
TZNAME:CET
DTSTART:19701025T030000
RRULE:FREQ=YEARLY;BYDAY=-1SU;BYMONTH=10
END:STANDARD
END:VTIMEZONE
BEGIN:VEVENT
DTEND;TZID=Europe/Berlin:20240616T170000
UID:69ebbe7df1eed
DTSTAMP:20260424T210325
LOCATION:Hankensbüttel
DESCRIPTION:Bienen- und Kräutertag im OTTER-ZENTRUM\r\n\r\nIm Tierpark OTTER-ZENTRUM können nicht nur die großen Raubtiere aus der Nähe beobachtet werden. Am 16. Juni stehen die kleinen "Retter der biologischen Vielfalt" im Mittelpunkt. Die Menschen haben vor ungefähr 10.000 Jahren gelernt\, die Produkte der emsigen\, braun-gelben Honigbienen zu nutzen und diese zu züchten. Wie die Bienenkönigin ihren Staat „regiert“ und welche Aufgaben die „Bienenpolizei“ hat wird heute von der Imkerin Manuela Schulze erklärt. Sie präsentiert im Wildpark ihre Bienenvölker und berichtet Wissenswertes aus dem Leben im Bienenstock\, über den großen Nutzen den Bienen und andere Bestäuber für die Landwirtschaft haben und unterstreicht ihre immense Bedeutung für die biologische Vielfalt. \r\nDer Honig kann verkostet und leckere Kräutersmoothies können probiert werden. An einem Bastelstand können Kinder Mini-Kräutergärten aus Recyclingmaterial herstellen und Bienenwachskerzen drehen.\r\nWildkräuter bieten nicht nur für Insekten eine wichtige Nahrungsquelle. Schon früh wussten auch die Menschen Kräutervielfalt zu schätzen und diese zu nutzen\, zum Beispiel als Apotheke und Gewürzfundus. Eine kundige Kräuterfachfrau stellt auf kurzen Spaziergängen Wildkräuter am Wegesrand vor und gibt Informationen für ihre kulinarische und heilkundliche Verwendung.\r\n\r\nDie Veranstaltung ist barrierefrei.\r\n
URL;VALUE=URI:https://www.unser-ferienprogramm.de/salzgitter/veranstaltung.php?id=195585
SUMMARY:Bienen- und Kräutertag im OTTER-ZENTRUM
DTSTART;TZID=Europe/Berlin:20240616T110000
END:VEVENT

END:VCALENDAR
