BEGIN:VCALENDAR
VERSION:2.0
PRODID:-//hacksw/handcal//NONSGML v1.0//EN
CALSCALE:GREGORIAN
BEGIN:VTIMEZONE
TZID:Europe/Berlin
X-LIC-LOCATION:Europe/Berlin
BEGIN:DAYLIGHT
TZOFFSETFROM:+0100
TZOFFSETTO:+0200
TZNAME:CEST
DTSTART:19700329T020000
RRULE:FREQ=YEARLY;BYDAY=-1SU;BYMONTH=3
END:DAYLIGHT
BEGIN:STANDARD
TZOFFSETFROM:+0200
TZOFFSETTO:+0100
TZNAME:CET
DTSTART:19701025T030000
RRULE:FREQ=YEARLY;BYDAY=-1SU;BYMONTH=10
END:STANDARD
END:VTIMEZONE
BEGIN:VEVENT
DTEND;TZID=Europe/Berlin:20260704T210000
UID:69e77ec1007f5
DTSTAMP:20260421T154225
LOCATION:Jazzkeller\, Schloßplatz 1 - JUZ Saarwellingen\, Haus der Jugend\, Engelstr. 14\, Saarwellingen
DESCRIPTION:„Saarwellingen meets Talents 2026“: Die Bühne für junge Musiktalente!\r\n\r\nDu wolltest schon immer deine Stimme oder dein Instrument vor einem großen Publikum präsentieren? Dann ist „Saarwellingen meets Talents“ genau deine Chance!\r\n\r\nWir suchen junge Sängerinnen und Sänger\, Musikerinnen und Musiker sowie Bands\, die ihr musikalisches Talent auf unserer Bühne zeigen möchten. Egal ob Pop\, Rock\, Hip-Hop\, Klassik\, Jazz\, Country oder eine andere Stilrichtung – bei uns kannst du zeigen\, was in dir steckt!\r\n\r\nAber das ist noch nicht alles! \r\n\r\nZur optimalen Vorbereitung auf die große Show am 4. Juli bieten wir dir kostenlose Gesangs-Workshops sowie einen Band-Coaching-Workshop an (Termine werden noch bekannt gegeben).\r\nIn den Workshops wirst du von erfahrenen Musikerinnen und Musikern gecoacht\, erhältst wertvolle Tipps und kannst dich mit anderen Talenten austauschen. Neben der bestmöglichen Vorbereitung steht natürlich auch der Spaß an der Musik im Mittelpunkt.\r\n\r\nAlso\, worauf wartest du noch? Melde dich jetzt an und werde Teil von "Saarwellingen meets Talents!\r\n
URL;VALUE=URI:https://www.unser-ferienprogramm.de/saarwellingen/veranstaltung.php?id=310834
SUMMARY:Saarwellingen meets Talents 2026 - Die Bühne für junge Musiktalente
DTSTART;TZID=Europe/Berlin:20260704T160000
END:VEVENT

END:VCALENDAR
