BEGIN:VCALENDAR
VERSION:2.0
PRODID:-//hacksw/handcal//NONSGML v1.0//EN
CALSCALE:GREGORIAN
BEGIN:VTIMEZONE
TZID:Europe/Berlin
X-LIC-LOCATION:Europe/Berlin
BEGIN:DAYLIGHT
TZOFFSETFROM:+0100
TZOFFSETTO:+0200
TZNAME:CEST
DTSTART:19700329T020000
RRULE:FREQ=YEARLY;BYDAY=-1SU;BYMONTH=3
END:DAYLIGHT
BEGIN:STANDARD
TZOFFSETFROM:+0200
TZOFFSETTO:+0100
TZNAME:CET
DTSTART:19701025T030000
RRULE:FREQ=YEARLY;BYDAY=-1SU;BYMONTH=10
END:STANDARD
END:VTIMEZONE
BEGIN:VEVENT
DTEND;TZID=Europe/Berlin:20260421T173000
UID:69e7807619183
DTSTAMP:20260421T154942
LOCATION:Parkplatz Freibad ODER Haus der Jugend
DESCRIPTION:Termine der nächsten Gruppenstunden der Umweltdetektive:\r\n\r\n \r\n10.03.2026\, 16.00 Uhr  \r\n24.03.2026\, 16.00 Uhr   \r\n21.04.2026\, 16.00 Uhr   \r\n05.05.2026\, 16.00 Uhr   \r\n19.05.2026\, 16.00 Uhr   \r\n02.06.2026\, 16.00 Uhr\r\n16.06.2026\, 16.00 Uhr     \r\n\r\n\r\nWer sind die Umweltdetektive?\r\nWir sind eine Gruppe von Mädchen und  Jungs zwischen 6 und 13 Jahren\, die sich mit dem Thema “Natur erleben-Umwelt gestalten” befassen. \r\nWir treffen uns in regelmäßigen Abständen immer dienstags\, um 16.00 Uhr am Parkplatz des Freibades oder im Haus der Jugend in Saarwellingen.\r\n\r\nWas machen die Umweltdetektive?\r\nUmweltdetektiv/in sein\, heißt für euch jede Menge Spaß\, spannende Entdeckungen in der Natur\, erlebnisreiche Exkursionen\, Bastelaktionen\, Naturschutz und wie jede/r etwas dafür tun kann und noch vieles mehr\, was ihr euch selbst darunter vorstellt.\r\nDes weiteren beteiligen sich die Umweltdetektive am Weltkindertag der Gemeinde\, an Ferienaktionen\, an Projekten von Naturschutzverbänden\, usw.\r\n\r\nWer leitet die Gruppe?\r\nDie Gruppe wird geleitet von dem Umweltpädagogen Guido Geisen.
URL;VALUE=URI:https://www.unser-ferienprogramm.de/saarwellingen/veranstaltung.php?id=294952
SUMMARY:Gruppenstunde der Umweltdetektive
DTSTART;TZID=Europe/Berlin:20260421T160000
END:VEVENT

END:VCALENDAR
