BEGIN:VCALENDAR
VERSION:2.0
PRODID:-//hacksw/handcal//NONSGML v1.0//EN
CALSCALE:GREGORIAN
BEGIN:VTIMEZONE
TZID:Europe/Berlin
X-LIC-LOCATION:Europe/Berlin
BEGIN:DAYLIGHT
TZOFFSETFROM:+0100
TZOFFSETTO:+0200
TZNAME:CEST
DTSTART:19700329T020000
RRULE:FREQ=YEARLY;BYDAY=-1SU;BYMONTH=3
END:DAYLIGHT
BEGIN:STANDARD
TZOFFSETFROM:+0200
TZOFFSETTO:+0100
TZNAME:CET
DTSTART:19701025T030000
RRULE:FREQ=YEARLY;BYDAY=-1SU;BYMONTH=10
END:STANDARD
END:VTIMEZONE
BEGIN:VEVENT
DTEND;TZID=Europe/Berlin:20260422T183000
UID:69e7809857cfc
DTSTAMP:20260421T155016
LOCATION:Haus der Jugend - JUZ
DESCRIPTION:Die Mädchengruppe in Saarwellingen bietet Mädchen ab 10 Jahren die Möglichkeit\, sich in einer offenen und kreativen Atmosphäre auszutauschen und neue Freundinnen zu finden. \r\nGemeinsam werden Treffen und Freizeitaktivitäten gestaltet\, bei denen die Teilnehmerinnen ihre eigenen Ideen\, Themen und Wünsche einbringen können. Die Gruppe lädt dazu ein\, kreativ zu sein\, Neues auszuprobieren und gemeinsam Spaß zu haben. Sie findet mittwochs von 17:00 bis 18:30 Uhr im Haus der Jugend statt und wird von Sozialpädagogin Claudia Peifer betreut. Die Teilnahme ist kostenlos.\r\n\r\nEine Anmeldung ist nicht notwendig.\r\n\r\nRückfragen: 06838/9007-176\r\n
URL;VALUE=URI:https://www.unser-ferienprogramm.de/saarwellingen/veranstaltung.php?id=294942
SUMMARY:Mädchengruppe
DTSTART;TZID=Europe/Berlin:20260422T170000
END:VEVENT

END:VCALENDAR
