BEGIN:VCALENDAR
VERSION:2.0
PRODID:-//hacksw/handcal//NONSGML v1.0//EN
CALSCALE:GREGORIAN
BEGIN:VTIMEZONE
TZID:Europe/Berlin
X-LIC-LOCATION:Europe/Berlin
BEGIN:DAYLIGHT
TZOFFSETFROM:+0100
TZOFFSETTO:+0200
TZNAME:CEST
DTSTART:19700329T020000
RRULE:FREQ=YEARLY;BYDAY=-1SU;BYMONTH=3
END:DAYLIGHT
BEGIN:STANDARD
TZOFFSETFROM:+0200
TZOFFSETTO:+0100
TZNAME:CET
DTSTART:19701025T030000
RRULE:FREQ=YEARLY;BYDAY=-1SU;BYMONTH=10
END:STANDARD
END:VTIMEZONE
BEGIN:VEVENT
DTEND;TZID=Europe/Berlin:20260421T183000
UID:69e780994fde4
DTSTAMP:20260421T155017
LOCATION:JUZ Saarwellingen - im Haus der Jugend\, Engelstr. 14
DESCRIPTION:Auf Initiative von Jugendlichen aus Saarwellingen wurde  ein Treffpunkt für Jugendliche geschaffen\, die sich zu der LGBTQ+ Community zugehörig fühlen oder sich einfach gerne mit diesem Thema beschäftigen würden.\r\nEine LGBTQ+-Jugendgruppe in der kommunalen Jugendarbeit bietet einen geschützten Raum\, in dem sich junge Menschen\, die sich als lesbisch\, schwul\, bisexuell\, trans*\, intergeschlechtlich oder queer identifizieren\, treffen\, austauschen und gegenseitig stärken können. Das fördert nicht nur das Gefühl von Zugehörigkeit und Zusammenhalt\, sondern unterstützt die Jugendlichen auch in ihrer persönlichen Entwicklung.\r\nGleichzeitig stehen bei Bedarf Ansprechpartner zur Verfügung\, die bei familiären oder persönlichen Herausforderungen begleiten können. \r\n\r\nGeleitet wird die Gruppe von Tamara Wagner\, die schon seit vielen Jahren als sytemische Coach und Mediatorin in diesem Bereich Tätig ist. Sie ist als Diversity Koordination mit Schwerpunkt Diskriminierungsschutz an der Universität Saarbrücken tätig und verfügt über eine fundierte pädagogische Ausbildung.\r\n\r\nDie Treffen finden alle 14 Tage statt. Die Termine werden hier veröffentlicht.
URL;VALUE=URI:https://www.unser-ferienprogramm.de/saarwellingen/veranstaltung.php?id=293112
SUMMARY:Treffen der LGBTQ+ Jugendgruppe
DTSTART;TZID=Europe/Berlin:20260421T163000
END:VEVENT

END:VCALENDAR
