BEGIN:VCALENDAR
VERSION:2.0
PRODID:-//hacksw/handcal//NONSGML v1.0//EN
CALSCALE:GREGORIAN
BEGIN:VTIMEZONE
TZID:Europe/Berlin
X-LIC-LOCATION:Europe/Berlin
BEGIN:DAYLIGHT
TZOFFSETFROM:+0100
TZOFFSETTO:+0200
TZNAME:CEST
DTSTART:19700329T020000
RRULE:FREQ=YEARLY;BYDAY=-1SU;BYMONTH=3
END:DAYLIGHT
BEGIN:STANDARD
TZOFFSETFROM:+0200
TZOFFSETTO:+0100
TZNAME:CET
DTSTART:19701025T030000
RRULE:FREQ=YEARLY;BYDAY=-1SU;BYMONTH=10
END:STANDARD
END:VTIMEZONE
BEGIN:VEVENT
DTEND;TZID=Europe/Berlin:20260306T203000
UID:69e780d6c74fd
DTSTAMP:20260421T155118
LOCATION:Rotenburg - Willingen - Rotenburg
DESCRIPTION:Fancy Friday – Ausflug in die Eissporthalle Willingen\r\n\r\nIm Rahmen unseres ersten Fancy Friday-Aktionstages 2026 machen wir einen gemeinsamen Ausflug in die Eissporthalle nach Willingen. \r\nEingeladen sind alle Kinder und Jugendlichen ab 10 Jahren\, die Lust auf einen sportlichen Nachmittag auf dem Eis haben.\r\n\r\nDatum: Freitag\, 06. März 2026\r\nAltersgruppe: ab 10 Jahren\r\nTeilnehmendenzahl: maximal 15 Plätze\r\n\r\nAbfahrt: 14:30 Uhr\r\nTreffpunkt: Familienzentrum\, Weidenberggasse 13\, Rotenburg\r\nBitte spätestens 10 Minuten vorher vor Ort sein\, damit wir pünktlich starten können.\r\n\r\nAktionszeit in Willingen: 16:30 – 18:30 Uhr\r\n\r\nRückkehr: voraussichtlich gegen 20:30 – 20:45 Uhr (Familienzentrum)\r\n\r\nKostenbeitrag inkl. Fahrt\, Eintritt und Verleih: 10\,00 €\r\n(Bitte vor Ort bar entrichten)\r\n\r\nVerpflegung: Bitte selbst mitbringen.\r\n\r\nDie Plätze sind begrenzt und werden nach Reihenfolge der Anmeldungen vergeben.
URL;VALUE=URI:https://www.unser-ferienprogramm.de/rotenburg/veranstaltung.php?id=304633
SUMMARY:Fancy Friday in der Eisporthalle
DTSTART;TZID=Europe/Berlin:20260306T143000
END:VEVENT

END:VCALENDAR
