BEGIN:VCALENDAR
VERSION:2.0
PRODID:-//hacksw/handcal//NONSGML v1.0//EN
CALSCALE:GREGORIAN
BEGIN:VTIMEZONE
TZID:Europe/Berlin
X-LIC-LOCATION:Europe/Berlin
BEGIN:DAYLIGHT
TZOFFSETFROM:+0100
TZOFFSETTO:+0200
TZNAME:CEST
DTSTART:19700329T020000
RRULE:FREQ=YEARLY;BYDAY=-1SU;BYMONTH=3
END:DAYLIGHT
BEGIN:STANDARD
TZOFFSETFROM:+0200
TZOFFSETTO:+0100
TZNAME:CET
DTSTART:19701025T030000
RRULE:FREQ=YEARLY;BYDAY=-1SU;BYMONTH=10
END:STANDARD
END:VTIMEZONE
BEGIN:VEVENT
DTEND;TZID=Europe/Berlin:20260901T180000
UID:69e72f48eb742
DTSTAMP:20260421T100320
LOCATION:Haus der Jugend\, Breitenstr. 49 in Rotenburg a. d. Fulda
DESCRIPTION:Zeig dein Zielwasser beim Softstick-Dartturnier für Jugendliche!\r\nKomm vorbei\, wir spielen spannende Matches\, haben Spaß und küren am Ende den Champion. Mitmachen kann jeder – egal ob Anfänger oder Profi.\r\n
URL;VALUE=URI:https://www.unser-ferienprogramm.de/rotenburg/veranstaltung.php?id=301988
SUMMARY:Softstick-Dartturnier im Haus der Jugend
DTSTART;TZID=Europe/Berlin:20260901T140000
END:VEVENT

END:VCALENDAR
