BEGIN:VCALENDAR
VERSION:2.0
PRODID:-//hacksw/handcal//NONSGML v1.0//EN
CALSCALE:GREGORIAN
BEGIN:VTIMEZONE
TZID:Europe/Berlin
X-LIC-LOCATION:Europe/Berlin
BEGIN:DAYLIGHT
TZOFFSETFROM:+0100
TZOFFSETTO:+0200
TZNAME:CEST
DTSTART:19700329T020000
RRULE:FREQ=YEARLY;BYDAY=-1SU;BYMONTH=3
END:DAYLIGHT
BEGIN:STANDARD
TZOFFSETFROM:+0200
TZOFFSETTO:+0100
TZNAME:CET
DTSTART:19701025T030000
RRULE:FREQ=YEARLY;BYDAY=-1SU;BYMONTH=10
END:STANDARD
END:VTIMEZONE
BEGIN:VEVENT
DTEND;TZID=Europe/Berlin:20260107T190000
UID:69e769f30c6f9
DTSTAMP:20260421T141339
LOCATION:Rotenburg\, Martin- Luther-Str. 20
DESCRIPTION:Langeweile in den Ferien?\r\n\r\nMit uns nicht. \r\nKommt gerne am 07.01. nach Rotenburg ins Gemeindezentrum in die Martin- Luther- Straße 20.\r\n\r\nDort gibt es einen Überraschungsfilm aus unserer " Flimmerkiste" .\r\nNatürlich ist die Popcorn- Maschine auch wieder dabei und Getränke und kleine Snacks stehen\r\nbereit.\r\n\r\nWir feuen uns auf Euch\r\nJulia Gottschalk & Regine Sauer
URL;VALUE=URI:https://www.unser-ferienprogramm.de/rotenburg/veranstaltung.php?id=297347
SUMMARY:Kinonachmittag
DTSTART;TZID=Europe/Berlin:20260107T170000
END:VEVENT

END:VCALENDAR
