BEGIN:VCALENDAR
VERSION:2.0
PRODID:-//hacksw/handcal//NONSGML v1.0//EN
CALSCALE:GREGORIAN
BEGIN:VTIMEZONE
TZID:Europe/Berlin
X-LIC-LOCATION:Europe/Berlin
BEGIN:DAYLIGHT
TZOFFSETFROM:+0100
TZOFFSETTO:+0200
TZNAME:CEST
DTSTART:19700329T020000
RRULE:FREQ=YEARLY;BYDAY=-1SU;BYMONTH=3
END:DAYLIGHT
BEGIN:STANDARD
TZOFFSETFROM:+0200
TZOFFSETTO:+0100
TZNAME:CET
DTSTART:19701025T030000
RRULE:FREQ=YEARLY;BYDAY=-1SU;BYMONTH=10
END:STANDARD
END:VTIMEZONE
BEGIN:VEVENT
DTEND;TZID=Europe/Berlin:20251126T180000
UID:69e75b6d33b27
DTSTAMP:20260421T131141
LOCATION:Haus der Jugend in Rotenburg an der Fulda 
DESCRIPTION:Dein Kunstwerk auf Leinwand!\r\n \r\nLasst in unserer kreativen Kunstwerkstatt eurer Fantasie freien Lauf! Mit Acrylfarben auf Leinwand entstehen bunte Meisterwerke\, und zum Abschluss laden wir eure Eltern herzlich zur feierlichen Vernissage ein\, bei der ihr kleinen Künstler eure Werke präsentiert.“\r\n\r\nWann: 26.11.25 von 15-19 Uhr \r\nWo: im Haus der Jugend in Rotenburg an der Fulda \r\nKosten: 5\,-- € pro Person\r\nWeitere Infos: die Vernissage beginnt um 18 Uhr
URL;VALUE=URI:https://www.unser-ferienprogramm.de/rotenburg/veranstaltung.php?id=294396
SUMMARY:KUNSTWORKSHOP - KUNSTWORKSHOP ...MALEN MIT ACRYLFARBEN
DTSTART;TZID=Europe/Berlin:20251126T150000
END:VEVENT

END:VCALENDAR
